BEGIN:VCALENDAR
VERSION:2.0
PRODID:-//ChamberMaster//Event Calendar 2.0//EN
METHOD:PUBLISH
X-PUBLISHED-TTL:P3D
REFRESH-INTERVAL:P3D
CALSCALE:GREGORIAN
BEGIN:VEVENT
DTSTART:20230826T140000Z
DTEND:20230826T210000Z
X-MICROSOFT-CDO-ALLDAYEVENT:FALSE
SUMMARY:1940s Day
DESCRIPTION:SPECIAL EVENT\n\n\n\nTravel back in time at 1940s Day\n\n\n\nTransport yourself to the era of big band music\, chrome-fendered cars\, pin curls and Zoot suits. 1940s Day is an immersive celebration of the pivotal decade\, including the music\, fashion\, vehicles and people who shaped it.\n\n\n\nProgramming Schedule 10 a.m. Free Chip Wheelies to the first 100 guests (Graeter's Ice Cream Shop) Free Ice Cream Sandwiches handed out in America's first integrated USO! Urbanist Media (UTPO)\n\n\n\nJoin Urbanist Media for "Lost Voices of the 1940s\," an interactive experience to learn about local people who lived during the 1940s. 10 a.m. to noon Ezzard Charles Trivia (Cincinnati History Museum) Ezzard Charles was a local boxing legend in the 1940s.\n\n\n\nTest your knowledge of our local Cincinnati Cobra!\n\n\n\nLocation: Union Terminal BUY TICKETS\n\nSaturday\, August 26\, 2023\n\nEntry: Free for Members or included with Museum Admission
X-ALT-DESC;FMTTYPE=text/html:<br />\n<br />\n<iframe allow="accelerometer\; autoplay\; clipboard-write\; encrypted-media\; gyroscope\; picture-in-picture\; web-share" allowfullscreen="" frameborder="0" height="315" src="https://www.youtube.com/embed/3MzwHVn45Ic" title="YouTube video player" width="560"></iframe>SPECIAL EVENT<br />\n<br />\nTravel back in time at 1940s Day<br />\n<br />\nTransport yourself to the era of big band music\, chrome-fendered cars\, pin curls and Zoot suits. 1940s Day is an immersive celebration of the pivotal decade\, including the music\, fashion\, vehicles and people who shaped it.<br />\n<br />\nProgramming Schedule 10 a.m. Free Chip Wheelies to the first 100 guests (Graeter&rsquo\;s Ice Cream Shop) Free Ice Cream Sandwiches handed out in America&rsquo\;s first integrated USO! Urbanist Media (UTPO)<br />\n<br />\nJoin Urbanist Media for &ldquo\;Lost Voices of the 1940s\,&rdquo\; an interactive experience to learn about local people who lived during the 1940s. 10 a.m. to noon Ezzard Charles Trivia (Cincinnati History Museum) Ezzard Charles was a local boxing legend in the 1940s.<br />\n<br />\nTest your knowledge of our local Cincinnati Cobra!<br />\n<br />\nLocation: Union Terminal BUY TICKETS<br />\nSaturday\, August 26\, 2023<br />\nEntry: Free for Members or included with Museum Admission&nbsp\;
LOCATION:Union Terminal
UID:e.818.19117
SEQUENCE:3
DTSTAMP:20260421T050828Z
URL:https://business.hispanicchambercincinnati.com/events/details/1940s-day-19117
END:VEVENT

END:VCALENDAR
