BEGIN:VCALENDAR
VERSION:2.0
PRODID:-//ChamberMaster//Event Calendar 2.0//EN
METHOD:PUBLISH
X-PUBLISHED-TTL:P3D
REFRESH-INTERVAL:P3D
CALSCALE:GREGORIAN
BEGIN:VEVENT
DTSTART:20221102T120000Z
DTEND:20221102T160000Z
X-MICROSOFT-CDO-ALLDAYEVENT:FALSE
SUMMARY:2022 Fifth Third Bank Diversity Leadership Symposium
DESCRIPTION:Daisy Auger-Dominguez will be the keynote speaker at The Fifth Third Bank Diversity Leadership Symposium on November 2\, 2022\, 8:00 a.m.   12:00 p.m. at the Duke Energy Convention Center. The event is the largest convening in the Cincinnati region designed for business leaders to advance diversity\, equity\, and inclusion within their workplaces.\n\nAuger-Dom nguez is an accomplished executive and dynamic leader widely recognized for her ability to direct organizational transformations on the leading edge of culture. As Chief People Officer at Vice Media Group\, Auger-Dom nguez manages a global team responsible for people operations\, diversity\, equity and inclusion initiatives\, corporate facilities\, real estate\, procurement and ESG. She recently authored her first book\, Inclusion Revolution: The Essential Guide to Dismantling Racial Inequity in the Workplace\, a practical\, inspiring roadmap for building and growing equitable workplaces. Auger-Dom nguez approaches racial inequality in the workplace as a problem we can solve. In her book\, Inclusion Revolution offers the necessary tools for managers to address issues of race\, power\, and exclusion\, to build change that lasts. Auger-Dom nguez began her career at Moody's Investors Service and has since played an integral part on the leadership teams at The Walt Disney Company\, Google\, and Viacom. She also founded and led Auger-Dom nguez Ventures\, a workplace consultancy.\n\nIn addition to Auger-Dom nguez's keynote\, you will hear from other influential speakers and have the opportunity to participate in breakout sessions. More details to come.
X-ALT-DESC;FMTTYPE=text/html:<p>Daisy Auger-Dominguez will be the keynote speaker at The Fifth Third Bank Diversity Leadership Symposium on November 2\, 2022\, 8:00 a.m. &ndash\; 12:00 p.m. at the Duke Energy Convention Center. The event is the largest convening in the Cincinnati region designed for business leaders to advance diversity\, equity\, and inclusion within their workplaces.</p>\n\n<p>Auger-Dom&iacute\;nguez is an accomplished executive and dynamic leader widely recognized for her ability to direct organizational transformations on the leading edge of culture. As Chief People Officer at Vice Media Group\, Auger-Dom&iacute\;nguez manages a global team responsible for people operations\, diversity\, equity and inclusion initiatives\, corporate facilities\, real estate\, procurement and ESG. She recently authored her first book\, Inclusion Revolution: The Essential Guide to Dismantling Racial Inequity in the Workplace\, a practical\, inspiring roadmap for building and growing equitable workplaces. Auger-Dom&iacute\;nguez approaches racial inequality in the workplace as a problem we can solve. In her book\, Inclusion Revolution offers the necessary tools for managers to address issues of race\, power\, and exclusion\, to build change that lasts. Auger-Dom&iacute\;nguez began her career at Moody&rsquo\;s Investors Service and has since played an integral part on the leadership teams at The Walt Disney Company\, Google\, and Viacom. She also founded and led Auger-Dom&iacute\;nguez Ventures\, a workplace consultancy.</p>\n\n<p>In addition to Auger-Dom&iacute\;nguez&#39\;s keynote\, you will hear from other influential speakers and have the opportunity to participate in breakout sessions. More details to come.</p>\n
LOCATION:Duke Energy Convention Center 525 Elm Street Cincinnati\, OH 45202
UID:e.818.18204
SEQUENCE:3
DTSTAMP:20260422T012542Z
URL:https://business.hispanicchambercincinnati.com/events/details/2022-fifth-third-bank-diversity-leadership-symposium-18204
END:VEVENT

END:VCALENDAR
