BEGIN:VCALENDAR
VERSION:2.0
PRODID:-//ChamberMaster//Event Calendar 2.0//EN
METHOD:PUBLISH
X-PUBLISHED-TTL:P3D
REFRESH-INTERVAL:P3D
CALSCALE:GREGORIAN
BEGIN:VEVENT
DTSTART:20230507T160000Z
DTEND:20230507T220000Z
X-MICROSOFT-CDO-ALLDAYEVENT:FALSE
SUMMARY:2023 Cincy-Cinco Latino Festival
DESCRIPTION:The excitement is building as the 19th annual Cincy-Cinco Latino Festival quickly approaches. We are planning the Saturday\, May 6th\, and Sunday\, May 7th events on Fountain Square to make this 2023 event FUN and DELICIOUS!!\n\n\n\nAs in the past\, our theme will be from Porkopolis to Tac polis\, featuring authentic Latino food with colorful and delicious flavors. In addition\, we?ll have participating restaurants from Argentina\, Colombia\, Venezuela\, and more. All are presented by almost a dozen local and regional restaurants.\n\n\n\nEntertainment\, music & dancing from almost two dozen of the most notable performers in the Midwest will fill downtown Cincinnati with family fun\, folkloric performances\, and in the evenings full of salsa dancing. \n\n\n\nSome of the other attractions are the children's area. Saturday afternoon will be dedicated to the young children with games\, raffles\, pi atas\, and a parade with all of Cincinnati's favorite mascots. \n\n\n\n(ESPA OL)\n\n\n\nLa emoci n sigue creciendo\, ya que la fecha del Festival Latino\, el 19o Cincy-Cinco se acerca! El festival se llevar  acabo los d as S bado 6 de Mayo y el S bado 7 de Mayo del 2023 en el centro de Cincinnati\, el Fountain Square. No te pierdas este festival que ser  m s divertido y m s delicioso que nunca!\n\n\n\nAl igual que en a os anteriores\, nuestro tema principal es de Porkopolis a Tac polis\, tray ndoles deliciosos platos t picos llenos de sabor y color\; y con participaci n de m s de una docena de restaurantes de Argentina\, Colombia\, Venezuela y muchos m s.. todos del area regional.\n\n\n\nTendremos una gran variedad de m sica\, baile y entretenimiento con actuaciones de danzas folcl ricas\, Grupos de Salsa y mucha diversion para toda la familia.\n\n\n\nY otra de las atracciones mas populares es la secci n de los ni os. Llena de muchas actividades de juegos\, rifas\, pi atas y el desfile de conga con las mascotas mas conocidas de Cincinnati.\n\n\n\nSocial Media Kit:\n\n\n	Image1\n	Image 2\n	Image 3\n	Image 4\n	Poster\n	Press Release\n\n\n#iLoveC5 #cincycinco\n\n\n\nThanks to all our Sponsors\n\n\n	Platinum Sponsor: PROCTER & GAMBLE and KROGER\n	Silver Sponsors: FIFTH THIRD BANK\, KLOSTERMAN BAKERY\, MEIJER. ST. ELIZABETH\, VISIT CINCY\n	Bronze Sponsor: CINCINNATI CHILDREN'S HOSPITAL MEDICAL CENTER\, DUKE ENERGY\, FIRST FINANCIAL BANK\, GE AEROSPACE\, GO METRO\, LCNB NATIONAL BANK\, MERCY HEALTH\, MESSER\, TRIHEALTH\, UC HEALTH\, UNIVERSAL WINDOWS DIRECT\, WESTERN & SOUTHERN\n	Other: CONSULADO DE MEXICO EN INDIANAPOLIS
X-ALT-DESC;FMTTYPE=text/html:<div>The excitement is building as the 19th annual Cincy-Cinco Latino Festival quickly approaches. We are planning the Saturday\, May 6th\, and Sunday\, May 7th events on Fountain Square to make this 2023 event FUN and DELICIOUS!!</div>\n\n<div><br />\nAs in the past\, our theme will be from Porkopolis to Tac&oacute\;polis\, featuring authentic Latino food with colorful and delicious flavors. In addition\, we?ll have participating restaurants from Argentina\, Colombia\, Venezuela\, and more. All are presented by almost a dozen local and regional restaurants.</div>\n\n<div><br />\nEntertainment\, music &amp\; dancing from almost two dozen of the most notable performers in the Midwest will fill downtown Cincinnati with family fun\, folkloric performances\, and in the evenings full of salsa dancing.&nbsp\;<br />\n<br />\nSome of the other attractions are the children&#39\;s area. Saturday afternoon will be dedicated to the young children with games\, raffles\, pi&ntilde\;atas\, and a parade with all of Cincinnati&#39\;s favorite mascots.&nbsp\;<br />\n<br />\n<em>(ESPA&Ntilde\;OL)<br />\n<br />\nLa emoci&oacute\;n sigue creciendo\, ya que la fecha del Festival Latino\, el 19o Cincy-Cinco se acerca! El festival se llevar&aacute\; acabo los d&iacute\;as S&aacute\;bado 6 de Mayo y el S&aacute\;bado 7 de Mayo del 2023 en el centro de Cincinnati\, el Fountain Square. No te pierdas este festival que ser&aacute\; m&aacute\;s divertido y m&aacute\;s delicioso que nunca!<br />\n<br />\nAl igual que en a&ntilde\;os anteriores\, nuestro tema principal es de Porkopolis a Tac&oacute\;polis\, tray&eacute\;ndoles deliciosos platos t&iacute\;picos llenos de sabor y color\; y con participaci&oacute\;n de m&aacute\;s de una docena de restaurantes de Argentina\, Colombia\, Venezuela y muchos m&aacute\;s.. todos del area regional.<br />\n<br />\nTendremos una gran variedad de m&uacute\;sica\, baile y entretenimiento con actuaciones de danzas folcl&oacute\;ricas\, Grupos de Salsa y mucha diversion para toda la familia.<br />\n<br />\nY otra de las atracciones mas populares es la secci&oacute\;n de los ni&ntilde\;os. Llena de muchas actividades de juegos\, rifas\, pi&ntilde\;atas y el desfile de conga con las mascotas mas conocidas de Cincinnati.<br />\n<br />\n<strong>Social Media Kit:</strong></em></div>\n\n<ul>\n	<li><a href="https://chambermaster.blob.core.windows.net/userfiles/UserFiles/chambers/818/File/2023_PDF/SocialMedia_-01.png">Image1</a></li>\n	<li><a href="https://chambermaster.blob.core.windows.net/userfiles/UserFiles/chambers/818/File/2023_PDF/SocialMedia_-02.png">Image 2</a></li>\n	<li><a href="https://chambermaster.blob.core.windows.net/userfiles/UserFiles/chambers/818/File/2023_PDF/SocialMedia_-03.png">Image 3</a></li>\n	<li><a href="https://chambermaster.blob.core.windows.net/userfiles/UserFiles/chambers/818/File/2023_PDF/SocialMedia_-04.png">Image 4</a></li>\n	<li><a href="https://chambermaster.blob.core.windows.net/userfiles/UserFiles/chambers/818/File/2023_PDF/POSTER2023C5.png">Poster</a></li>\n	<li><a href="https://business.hispanicchambercincinnati.com/news/details/19th-cincy-cinco-returns-with-mucha-diversion-y-mucha-comida">Press Release</a></li>\n</ul>\n\n<div><em>#iLoveC5 #cincycinco</em><br />\n<br />\n<strong>Thanks to all our Sponsors</strong></div>\n\n<ul>\n	<li><strong>Platinum Sponsor: </strong>PROCTER &amp\; GAMBLE and&nbsp\;KROGER</li>\n	<li><strong>Silver Sponsors: </strong>FIFTH THIRD BANK\, KLOSTERMAN BAKERY\, MEIJER. ST. ELIZABETH\, VISIT CINCY</li>\n	<li><strong>Bronze Sponsor:&nbsp\;</strong>CINCINNATI CHILDREN&#39\;S HOSPITAL MEDICAL CENTER\, DUKE ENERGY\, FIRST FINANCIAL BANK\, GE AEROSPACE\, GO METRO\, LCNB NATIONAL BANK\, MERCY HEALTH\, MESSER\, TRIHEALTH\, UC HEALTH\, UNIVERSAL WINDOWS DIRECT\, WESTERN &amp\; SOUTHERN</li>\n	<li><strong>Other: </strong>CONSULADO DE MEXICO EN INDIANAPOLIS</li>\n</ul>\n
LOCATION:Fountain Square Cincinnati
UID:e.818.18729
SEQUENCE:3
DTSTAMP:20260421T053425Z
URL:https://business.hispanicchambercincinnati.com/events/details/2023-cincy-cinco-latino-festival-18729
END:VEVENT

END:VCALENDAR
