BEGIN:VCALENDAR
VERSION:2.0
PRODID:-//ChamberMaster//Event Calendar 2.0//EN
METHOD:PUBLISH
X-PUBLISHED-TTL:P3D
REFRESH-INTERVAL:P3D
CALSCALE:GREGORIAN
BEGIN:VEVENT
DTSTART:20240502T120000Z
DTEND:20240502T220000Z
X-MICROSOFT-CDO-ALLDAYEVENT:FALSE
SUMMARY:2024 Midwest Regional Sustainability Summit
DESCRIPTION:2024 Theme: From Vision to Action\n\nWe find ourselves at a critical juncture for collective action as we work to address the global and local impacts of the climate crisis. We can and must bring the energy and spirit of collaboration to implement solutions that advance mitigation\, adaptation\, and climate justice. \n\nLast year's Summit theme focused on imagining visionary and inspiring possibilities that inform\, empower\, and motivate our actions to create a more vibrant\, equitable\, and thriving region. This year\, building from a place of hope and renewed resilience\, we will focus on aligning our collective efforts to move from vision to action.\n\nThe climate challenge and new opportunities invite us to chart the course for a great future together. With the right combination of planning\, persistence\, and partnerships\, the future we envision is within our grasp. Climate action is occurring at all levels of government\, business\, academia\, non-profits\, advocacy groups\, and within our neighborhoods. Across all systems and actions\, there is a role for everyone to make an impact!\n\nThe Midwest Regional Sustainability Summit serves as a spark for connecting and learning together\, deepening our resolve\, and celebrating collaborative climate solutions as we each find our place in the movement to secure a resilient\, equitable\, and thriving future.
X-ALT-DESC;FMTTYPE=text/html:<p><strong>2024 Theme: From Vision to Action</strong></p>\n\n<p>We find ourselves at a critical juncture for collective action as we work to address the global and local impacts of the climate crisis. We can and must bring the energy and spirit of collaboration to implement solutions that advance mitigation\, adaptation\, and climate justice.&nbsp\;</p>\n\n<p>Last year&rsquo\;s Summit theme focused on imagining visionary and inspiring possibilities that inform\, empower\, and motivate our actions to create a more vibrant\, equitable\, and thriving region. This year\, building from a place of hope and renewed resilience\, we will focus on aligning our collective efforts to move from vision to action.</p>\n\n<p>The climate challenge and new opportunities invite us to chart the course for a great future together. With the right combination of planning\, persistence\, and partnerships\, the future we envision is within our grasp. Climate action is occurring at all levels of government\, business\, academia\, non-profits\, advocacy groups\, and within our neighborhoods. Across all systems and actions\, there is a role for everyone to make an impact!</p>\n\n<p>The Midwest Regional Sustainability Summit serves as a spark for connecting and learning together\, deepening our resolve\, and celebrating collaborative climate solutions as we each find our place in the movement to secure a resilient\, equitable\, and thriving future.</p>\n
LOCATION:Duke Energy Convention Center Cincinnati\, OH
UID:e.818.19643
SEQUENCE:3
DTSTAMP:20260421T181730Z
URL:https://business.hispanicchambercincinnati.com/events/details/2024-midwest-regional-sustainability-summit-19643
END:VEVENT

END:VCALENDAR
