BEGIN:VCALENDAR
VERSION:2.0
PRODID:-//ChamberMaster//Event Calendar 2.0//EN
METHOD:PUBLISH
X-PUBLISHED-TTL:P3D
REFRESH-INTERVAL:P3D
CALSCALE:GREGORIAN
BEGIN:VEVENT
DTSTART:20240523T150000Z
DTEND:20240523T173000Z
X-MICROSOFT-CDO-ALLDAYEVENT:FALSE
SUMMARY:2024 Outstanding Women of Northern Kentucky Awards
DESCRIPTION:Join us as we celebrate the 40th anniversary of the Outstanding Women of Northern Kentucky Awards! The Outstanding Women of Northern Kentucky Awards\, sponsored by St. Elizabeth Healthcare\, will be held May 23rd at Turfway Park Racing & Gaming. This award honors women who exemplify notable achievement\, outstanding service in their professions or to the Northern Kentucky community\, and the qualities of personal integrity\, perseverance and leadership.\n\n \nThursday\, May 23\, 2024 11:00 AM - 1:30 PM EST\n\n\n\n\n\nTurfway Park Racing & Gaming\n\n7500 Turfway Road\n\nFlorence\, KY 41042
X-ALT-DESC;FMTTYPE=text/html:Join us as we celebrate the 40th anniversary of the&nbsp\;Outstanding Women of Northern Kentucky&nbsp\;Awards!&nbsp\;The Outstanding Women of Northern Kentucky Awards\, sponsored by St. Elizabeth Healthcare\, will be held May 23rd at Turfway Park Racing &amp\; Gaming. This award honors women who exemplify notable achievement\, outstanding service in their professions or to the Northern Kentucky community\, and the qualities of personal integrity\, perseverance and leadership.<br />\n&nbsp\;\n<div id="wc-eventDetailDate"><label data-bind="text: Event.EventStartAndEndDateAndTimeAsLongString">Thursday\, May 23\, 2024 11:00 AM - 1:30 PM</label>&nbsp\;<label data-bind="text: EventTimeZoneAbbreviation">EST</label></div>\n\n<div id="wc-eventDetailLocation">\n<address>\n<div data-bind="html: Event.LocationDisplay"><br />\nTurfway Park Racing &amp\; Gaming<br />\n7500 Turfway Road<br />\nFlorence\, KY 41042</div>\n</address>\n</div>\n
LOCATION:Turfway Park Racing & Gaming 7500 Turfway Road Florence\, KY 41042
UID:e.818.19857
SEQUENCE:3
DTSTAMP:20260421T182056Z
URL:https://business.hispanicchambercincinnati.com/events/details/2024-outstanding-women-of-northern-kentucky-awards-19857
END:VEVENT

END:VCALENDAR
