BEGIN:VCALENDAR
VERSION:2.0
PRODID:-//ChamberMaster//Event Calendar 2.0//EN
METHOD:PUBLISH
X-PUBLISHED-TTL:P3D
REFRESH-INTERVAL:P3D
CALSCALE:GREGORIAN
BEGIN:VEVENT
DTSTART:20240926T230000Z
DTEND:20240927T020000Z
X-MICROSOFT-CDO-ALLDAYEVENT:FALSE
SUMMARY:2024 Salsa on The Square
DESCRIPTION:SALSA ON THE SQUARE RETURNS MAY 2ND!\n\nCincinnati?s Salsa On The Square\, brought to you by P&G\, returns Thursday May 2nd to Fountain Square!\n\nHere is the 2024 Salsa on the Square lineup. You can also visit MyFountainSquare.com for more details!\n\nBig thanks to the generous sponsors\, P&G and Fifth Third Bank\, as well as series partners Mazunte and La Mega 97.7 FM Cincinnati!\n\n\n\nSalsa on the Square features live local\, regional and national Latin bands specializing in Salsa\, Merengue\, Cumbia\, and Latin Jazz. As well as two large dance classes led by talented instructors ready to help you shine on the dance floor!\n\n\n\nMazunte will be serving up tacos\, tostados\, and guacamole to hungry dancers on-site.\n\n\n\nFountain Square concessions offers full bar service including beer\, wine\, frozen Margaritas\, and Coca-Cola products. Come early for Happy Hour and get $1 off all alcoholic beverages!\n\n\n\nSalsa on the Square\, a free weekly event takes place every Thursday\, from May 2nd through September 26th from 7-10pm on Fountain Square in Cincinnati!\n\n\n\nSalsa on the Square is presented by P&G. Series partners Fifth Third Bank and 97.7 La Mega Radio!\n\n\n\nFountain Square is located at 520 Vine Street in downtown Cincinnati. Safe and secure parking is available at Fountain Square?s underground garage facility. Fountain Square is managed and programmed by 3CDC!
X-ALT-DESC;FMTTYPE=text/html:<p>SALSA ON THE SQUARE RETURNS MAY 2ND!</p>\n\n<p>Cincinnati?s Salsa On The Square\, brought to you by P&amp\;G\, returns Thursday May 2nd to Fountain Square!</p>\n\n<p>Here is <strong><a href="https://salsaonthesquare.com/salsa-on-the-square-2024-schedule/">t</a><a href="https://salsaonthesquare.com/salsa-on-the-square-2024-schedule/"><u>he 2024&nbsp\;Salsa on the Square lineup</u></a></strong>. You can also visit&nbsp\;<a href="https://myfountainsquare.com/series/salsa-on-the-square-2024/" rel="noreferrer noopener" target="_blank">MyFountainSquare.com</a>&nbsp\;for more details!</p>\n\n<p>Big thanks to the generous sponsors\, P&amp\;G and Fifth Third Bank\, as well as series partners Mazunte and La Mega 97.7 FM Cincinnati!<br />\n<br />\nSalsa on the Square features live local\, regional and national Latin bands specializing in Salsa\, Merengue\, Cumbia\, and Latin Jazz. As well as two large dance classes led by&nbsp\;talented instructors ready to help you shine on the dance floor!<br />\n<br />\n<a href="https://mazuntetacos.com/" rel="noreferrer noopener" target="_blank">Mazunte&nbsp\;</a>will be serving up tacos\, tostados\, and guacamole to hungry dancers on-site.<br />\n<br />\n<a href="https://myfountainsquare.com/series/salsa-on-the-square-2024/">Fountain Square</a>&nbsp\;concessions offers full bar service including beer\, wine\, frozen Margaritas\, and Coca-Cola products. Come early for Happy Hour and get $1 off all alcoholic beverages!<br />\n<br />\nSalsa on the Square\, a free weekly event takes place every Thursday\, from May 2nd through September 26th from 7-10pm on Fountain Square in Cincinnati!<br />\n<br />\nSalsa on the Square is presented by P&amp\;G. Series partners Fifth Third Bank and 97.7 La Mega Radio!<br />\n<br />\n<a href="https://myfountainsquare.com/series/salsa-on-the-square-2024/">Fountain&nbsp\;</a><a href="https://myfountainsquare.com/series/salsa-on-the-square-2024/" rel="noreferrer noopener" target="_blank">Square</a>&nbsp\;is located at&nbsp\;<a href="https://maps.app.goo.gl/SEkDDpq8yhx6mnuF8" rel="noreferrer noopener" target="_blank">520 Vine Street&nbsp\;</a>in downtown Cincinnati. Safe and secure parking is available at Fountain Square?s underground garage facility. Fountain Square is managed and programmed by 3CDC!</p>\n
LOCATION:Fountain Square is located at 520 Vine Street in downtown Cincinnati. Safe and secure parking is available at Fountain Square?s underground garage facility. Fountain Square is managed and programmed by 3CDC.
UID:e.818.19974
SEQUENCE:3
DTSTAMP:20260420T122651Z
URL:https://business.hispanicchambercincinnati.com/events/details/2024-salsa-on-the-square-09-26-2024-19974
END:VEVENT

END:VCALENDAR
