BEGIN:VCALENDAR
VERSION:2.0
PRODID:-//ChamberMaster//Event Calendar 2.0//EN
METHOD:PUBLISH
X-PUBLISHED-TTL:P3D
REFRESH-INTERVAL:P3D
CALSCALE:GREGORIAN
BEGIN:VEVENT
DTSTART:20250226T160000Z
DTEND:20250226T183000Z
X-MICROSOFT-CDO-ALLDAYEVENT:FALSE
SUMMARY:2025 Economic Development Achievement Awards
DESCRIPTION:We are excited to invite you to the Economic Development Achievement Awards on Wednesday\, February 26th\, 2025\, at the Sharonville Convention Center!\n\n \n\nJoin us as we celebrate the outstanding achievements of our Commercial Capital\, Economic Development\, and Growth Lab teams\, along with the individuals and businesses they've supported over the past year. It promises to be an inspiring afternoon of recognition\, collaboration\, and celebration.\n\n \n\nEvent Details\n\n\n	Event: Economic Development Achievement Awards\n	Date: Wednesday\, February 26th\, 2025\n	Location: Sharonville Convention Center\n	Early Bird Ticket Sales end January 16th at 5 pm\n	Sponsorships and Tables are still available\n\n\n \n\nWe look forward to celebrating with you and recognizing the accomplishments that make our community stronger and more vibrant.\n\n\n\nSchedule\n\n\n\n\n	11:00 AM | Doors Open for Registration & Check-in \n	11:00 AM   11:45 AM | Startup Expo (open to all guests)\n	11:30 AM | Ballroom doors open\n	12:00 PM- 1:30 PM| Program\n\n\n\n\nIf you prefer to be invoiced\, please reach out to Trisha Sefakis.
X-ALT-DESC;FMTTYPE=text/html:<div dir="ltr">\n<div>We are excited to invite you to the Economic Development Achievement Awards on Wednesday\, February 26th\, 2025\, at the Sharonville Convention Center!</div>\n\n<div>&nbsp\;</div>\n\n<div>Join us as we celebrate the outstanding achievements of our Commercial Capital\, Economic Development\, and Growth Lab teams\, along with the individuals and businesses they&rsquo\;ve supported over the past year. It promises to be an inspiring afternoon of recognition\, collaboration\, and celebration.</div>\n\n<div>&nbsp\;</div>\n\n<p>Event Details</p>\n\n<ul>\n	<li>Event: Economic Development Achievement Awards</li>\n	<li>Date: Wednesday\, February 26th\, 2025</li>\n	<li>Location: Sharonville Convention Center</li>\n	<li>Early Bird Ticket Sales end January 16th at 5 pm</li>\n	<li>Sponsorships and Tables are still available</li>\n</ul>\n\n<div>&nbsp\;</div>\n\n<div>We look forward to celebrating with you and recognizing the accomplishments that make our community stronger and more vibrant.<br />\n<br />\nSchedule</div>\n</div>\n\n<div dir="ltr">\n<ul>\n	<li><strong>11:00 AM</strong>&nbsp\;| Doors Open for Registration &amp\; Check-in&nbsp\;</li>\n	<li><strong>11:00 AM &ndash\; 11:45 AM</strong>&nbsp\;| Startup Expo (open to all guests)</li>\n	<li><strong>11:30 AM</strong>&nbsp\;| Ballroom doors open</li>\n	<li><strong>12:00 PM</strong>-&nbsp\;<b>1:30&nbsp\;</b>PM| Program</li>\n</ul>\n</div>\n\n<div dir="ltr">\n<p>If you prefer to be invoiced\, please reach out to&nbsp\;<a data-linkindex="2" href="mailto:tsefakis@alloydev.org" title="mailto:tsefakis@alloydev.org">Trisha Sefakis.</a></p>\n</div>\n
LOCATION:Sharonville Convention Center
UID:e.818.20616
SEQUENCE:3
DTSTAMP:20260423T110332Z
URL:https://business.hispanicchambercincinnati.com/events/details/2025-economic-development-achievement-awards-20616
END:VEVENT

END:VCALENDAR
