BEGIN:VCALENDAR
VERSION:2.0
PRODID:-//ChamberMaster//Event Calendar 2.0//EN
METHOD:PUBLISH
X-PUBLISHED-TTL:P3D
REFRESH-INTERVAL:P3D
CALSCALE:GREGORIAN
BEGIN:VEVENT
DTSTART:20260402T170000Z
DTEND:20260402T210000Z
X-MICROSOFT-CDO-ALLDAYEVENT:FALSE
SUMMARY:2026 Breaking Barriers presented by Always and Secret
DESCRIPTION:Breaking Barriers is an in-person learning and development event for women in the sport industry. \n\n\n\nFC Cincinnati\, in partnership with Always and Secret\, will host Breaking Barriers on Thursday\, April 2 at TQL Stadium from 1:00-5:00 PM ET in Bahl and Gaynor Pitch View Club and Cincinnatus Club at TQL Stadium. FC Cincinnati's Breaking Barriers initiative\, launched in 2021\, empowers women pursuing careers in the sports industry. Aligned with Women's History Month\, the event offers learning and development opportunities through panel discussions and breakout sessions. \n\n\n\nPlease email britt@fccincinnati.com for any questions pertaining to the event.
X-ALT-DESC;FMTTYPE=text/html:<h4>Breaking Barriers is an in-person learning and development event for women in the sport industry.&nbsp\;<br />\n<br />\nFC Cincinnati\, in partnership with Always and Secret\, will host Breaking Barriers on Thursday\, April 2 at TQL Stadium from 1:00-5:00 PM ET in Bahl and Gaynor Pitch View Club and Cincinnatus Club at TQL Stadium. FC Cincinnati&#39\;s Breaking Barriers initiative\, launched in 2021\, empowers women pursuing careers in the sports industry. Aligned with Women&#39\;s History Month\, the event offers learning and development opportunities through panel discussions and breakout sessions.&nbsp\;<br />\n<br />\nPlease email britt@fccincinnati.com for any questions pertaining to the event.&nbsp\;</h4>\n
LOCATION:TQL Stadium 1500 John Street Cincinnati\, OH 45214
UID:e.818.22153
SEQUENCE:3
DTSTAMP:20260419T135641Z
URL:https://business.hispanicchambercincinnati.com/events/details/2026-breaking-barriers-presented-by-always-and-secret-22153
END:VEVENT

END:VCALENDAR
