BEGIN:VCALENDAR
VERSION:2.0
PRODID:-//ChamberMaster//Event Calendar 2.0//EN
METHOD:PUBLISH
X-PUBLISHED-TTL:P3D
REFRESH-INTERVAL:P3D
CALSCALE:GREGORIAN
BEGIN:VEVENT
DTSTART:20230819T233000Z
DTEND:20230820T013000Z
X-MICROSOFT-CDO-ALLDAYEVENT:FALSE
SUMMARY:A Night in Havana with Arturo Sandoval
DESCRIPTION:10-time Grammy Award winner Arturo Sandoval and the Cincinnati Chamber Orchestra introduce you to Cuba's rich\, colorful musical traditions. You will experience a small sample of this rich musical and cultural history\, which has seen very few opportunities to be shared with the rest of the world since the late 1950s. Works by Cuban composers Tania Le n (recipient of the 2021 Pulitzer Prize for Music and the 2022 Lifetime Artistic Achievement Award from Kennedy Center Honors)\, Ernesto Lecuona\, and Sandoval are augmented with works by George Gershwin\, Silvestre Revueltas\, and Joaqu n Rodrigo.\n\n\n\nFor more information you can call 513.723.1182 x2 or email us at info@ccocincinnati.org
X-ALT-DESC;FMTTYPE=text/html:10-time Grammy Award winner Arturo Sandoval and the Cincinnati Chamber Orchestra introduce you to Cuba&rsquo\;s rich\, colorful musical traditions. You will experience a small sample of this rich musical and cultural history\, which has seen very few opportunities to be shared with the rest of the world since the late 1950s. Works by Cuban composers Tania Le&oacute\;n (recipient of the 2021 Pulitzer Prize for Music and the 2022 Lifetime Artistic Achievement Award from Kennedy Center Honors)\, Ernesto Lecuona\, and Sandoval are augmented with works by George Gershwin\, Silvestre Revueltas\, and Joaqu&iacute\;n Rodrigo.<br />\n<br />\nFor more information you can call&nbsp\;513.723.1182 x2 or email us at&nbsp\;info@ccocincinnati.org
LOCATION:School for Creative and Performing Arts 108 W Central Pkwy\, Cincinnati\, OH 45202 Washington Park Garage: The Washington Park parking garage is located directly north of the SCPA campus at 1230 Elm Street. Metered Street Parking: Metered street parking is available on adjacent streets.
UID:e.818.18847
SEQUENCE:3
DTSTAMP:20260421T051045Z
URL:https://business.hispanicchambercincinnati.com/events/details/a-night-in-havana-with-arturo-sandoval-18847
END:VEVENT

END:VCALENDAR
