BEGIN:VCALENDAR
VERSION:2.0
PRODID:-//ChamberMaster//Event Calendar 2.0//EN
METHOD:PUBLISH
X-PUBLISHED-TTL:P3D
REFRESH-INTERVAL:P3D
CALSCALE:GREGORIAN
BEGIN:VEVENT
DTSTART:20230820T200000Z
DTEND:20230820T211500Z
X-MICROSOFT-CDO-ALLDAYEVENT:FALSE
SUMMARY:Afro-Cuban Afternoon with Arturo Sandoval
DESCRIPTION:Get in the groove with the Cincinnati Chamber Orchestra Brass Quintet\, members of the Cincinnati Contemporary Jazz Orchestra\, and 10-Time Grammy Award Winner Arturo Sandoval\, as we take a peek into the world of Afro-Cuban jazz. The program is a further exposure to Cuba?s rich musical heritage made famous worldwide by musicians like Sandoval\, Dizzy Gillespie\, Mario Bauza\, Machito\, or Chico O?Farrill\, and ensembles such as Orquesta Arag n\, Orquesta Cubana de M sica Moderna (later re-named Irakere)\, Los Van Van\, and the Buena Vista Social Club.\n\n\n\nFor more information you can call 513.723.1182 x2 or email us at info@ccocincinnati.org
X-ALT-DESC;FMTTYPE=text/html:Get in the groove with the Cincinnati Chamber Orchestra Brass Quintet\, members of the Cincinnati Contemporary Jazz Orchestra\, and 10-Time Grammy Award Winner Arturo Sandoval\, as we take a peek into the world of Afro-Cuban jazz. The program is a further exposure to Cuba?s rich musical heritage made famous worldwide by musicians like Sandoval\, Dizzy Gillespie\, Mario Bauza\, Machito\, or Chico O?Farrill\, and ensembles such as Orquesta Arag&oacute\;n\, Orquesta Cubana de M&uacute\;sica Moderna (later re-named Irakere)\, Los Van Van\, and the Buena Vista Social Club.<br />\n<br />\nFor more information you can call&nbsp\;513.723.1182 x2 or email us at&nbsp\;info@ccocincinnati.org
LOCATION:Roger Bacon High School 4320 Vine St\, Cincinnati\, OH 45217 Ample free parking is available onsite. Handicap accessible entrance to the school is off of the parking lot. Enter off Leonard Ave.
UID:e.818.18848
SEQUENCE:3
DTSTAMP:20260421T051038Z
URL:https://business.hispanicchambercincinnati.com/events/details/afro-cuban-afternoon-with-arturo-sandoval-18848
END:VEVENT

END:VCALENDAR
