BEGIN:VCALENDAR
VERSION:2.0
PRODID:-//ChamberMaster//Event Calendar 2.0//EN
METHOD:PUBLISH
X-PUBLISHED-TTL:P3D
REFRESH-INTERVAL:P3D
CALSCALE:GREGORIAN
BEGIN:VEVENT
DTSTART:20230629T160000Z
DTEND:20230629T173000Z
X-MICROSOFT-CDO-ALLDAYEVENT:FALSE
SUMMARY:Afternoon Tea | Summer 2023
DESCRIPTION:Join us for afternoon tea under the tent!\n\n\n\nEnjoy a delicious assortment of sweets\, homemade scones\, and savory bites alongside a fine selection of Churchill's teas. Following your tea\, enjoy touring our current special exhibitions and the Taft historic house galleries. Admission included.
X-ALT-DESC;FMTTYPE=text/html:Join us for afternoon tea under the tent!<br />\n<br />\nEnjoy a delicious assortment of sweets\, homemade scones\, and savory bites alongside a fine selection of Churchill&rsquo\;s teas. Following your tea\, enjoy touring our current special exhibitions and the Taft historic house galleries. Admission included.
LOCATION:Taft Museum of Art 316 Pike St\, Cincinnati\, OH 45202
UID:e.818.18995
SEQUENCE:3
DTSTAMP:20260421T074025Z
URL:https://business.hispanicchambercincinnati.com/events/details/afternoon-tea-summer-2023-18995
END:VEVENT

END:VCALENDAR
