BEGIN:VCALENDAR
VERSION:2.0
PRODID:-//ChamberMaster//Event Calendar 2.0//EN
METHOD:PUBLISH
X-PUBLISHED-TTL:P3D
REFRESH-INTERVAL:P3D
CALSCALE:GREGORIAN
BEGIN:VEVENT
DTSTART:20240329T220000Z
DTEND:20240330T010000Z
X-MICROSOFT-CDO-ALLDAYEVENT:FALSE
SUMMARY:Amador Live Music
DESCRIPTION:Come and enjoy live music with Mambo Combo.\n\n\n\nWhen:\n\nThu. December 21st\, 2023 \n\nSat. January 13th\, 2024\n\nSat. January 27th\, 2024\n\nWed. February 14\, 2024\n\nSat. March 2nd\, 2024    \n\nFri. March 8th\, 2024\n\nFri March 29th\, 2024 \n\n\n\nWhere:\n\n1 Levee Way\, Suite 2122A\n\nNewport\, KY 41071\n\n\n\nFrom 6 to 9 pm
X-ALT-DESC;FMTTYPE=text/html:Come and enjoy live music with <u><strong>Mambo Combo.</strong></u><br />\n<br />\nWhen:<br />\nThu. December 21st\, 2023&nbsp\;<br />\nSat. January 13th\, 2024<br />\nSat. January 27th\, 2024<br />\nWed. February 14\, 2024<br />\nSat. March 2nd\, 2024&nbsp\;&nbsp\;&nbsp\;&nbsp\;<br />\nFri. March 8th\, 2024<br />\nFri March 29th\, 2024&nbsp\;<br />\n<br />\nWhere:<br />\n1 Levee Way\, Suite 2122A<br />\nNewport\, KY 41071<br />\n<br />\nFrom 6 to 9 pm
LOCATION:1 Levee Way\, Suite 2122A Newport\, KY 41071
UID:e.818.19636
SEQUENCE:3
DTSTAMP:20260421T142006Z
URL:https://business.hispanicchambercincinnati.com/events/details/amador-live-music-19636
END:VEVENT

END:VCALENDAR
