BEGIN:VCALENDAR
VERSION:2.0
PRODID:-//ChamberMaster//Event Calendar 2.0//EN
METHOD:PUBLISH
X-PUBLISHED-TTL:P3D
REFRESH-INTERVAL:P3D
CALSCALE:GREGORIAN
BEGIN:VEVENT
DTSTART:20240907T220000Z
DTEND:20240908T010000Z
X-MICROSOFT-CDO-ALLDAYEVENT:FALSE
SUMMARY:American Roots: Songs of the Underground Railroad
DESCRIPTION:For thousands self-liberating on the Underground Railroad\, music was a key to freedom. Now\, those songs are coming to life. \n\nJoin us for American Roots: Songs of the Underground Railroad\, a live performance featuring soprano Victoria Ellington and the Summermusik String Quartet. \n\nThe performance will feature songs from the era of the Underground Railroad as well as 20th- and 21st-century pieces by Black composers\, including Florence Price\, Margaret Bonds\, Mark Lomax II\, Nkeiru Okoye and Jessie Montgomery. \n\n\n	6:30 p.m. Reception\n	6:45 p.m. Gallery talk with Ann Hagedorn\, historian and author of Beyond the River: The Untold Story of the Heroes of the Underground Railroad\n	7:30 p.m. Performance\n\n\nTickets are $40.
X-ALT-DESC;FMTTYPE=text/html:<p>For thousands self-liberating on the Underground Railroad\, music was a key to freedom. Now\, those songs are coming to life.&nbsp\;</p>\n\n<p>Join us for&nbsp\;<a data-hs-link-id="0" href="https://d2bbh904.na1.hubspotlinks.com/Ctc/L0+113/d2BBH904/VWCjXy6lYv9RVd_2kt5-ZKfzW4PtzZh5kfbbYN824DzK3m2ndW7Y8-PT6lZ3n8W4-mgSf4t3FYYW8Glfq91gY-T_W8xwH7q1nFKF0W1sppll3ypn8dW34J69g76zcj7W19fpPb4g9hsGW7w6y-J1fSCmXW7XZs-t2fq3JTW3ZTZmX2XpvjtW35WXyN2k6zPbW6l_LGC7qJDGcW4xW0Sd632qvsW7hMbbL8rGtSVW3Tx06V9gMmRMW34XDSZ5q6Gg9W7lV7zb5XVFHwW1Y1F153C57PBW2hS46n1QsNLZW6n0yK91jBCnWW80spLR7TKPc3W3WqPDv98pJJRW18ZfQX7xnjg8VKs70730llzSW8CqQLn4jXsXYW7mX7yb6nR9SjW4R6XXR1fwxpnf8yYV0H04" rel="noopener" target="_blank">American Roots: Songs of the Underground Railroad</a>\, a live performance featuring soprano Victoria Ellington and the Summermusik String Quartet.&nbsp\;</p>\n\n<p>The performance will feature songs from the era of the Underground Railroad as well as 20th- and 21st-century pieces by Black composers\, including Florence Price\, Margaret Bonds\, Mark Lomax II\, Nkeiru Okoye and Jessie Montgomery.&nbsp\;</p>\n\n<ul>\n	<li>6:30 p.m. Reception</li>\n	<li>6:45 p.m. Gallery talk with Ann Hagedorn\, historian and author of&nbsp\;Beyond the River: The Untold Story of the Heroes of the Underground Railroad</li>\n	<li>7:30 p.m. Performance</li>\n</ul>\n\n<p>Tickets are $40.</p>\n
LOCATION:National Underground Railroad Freedom Center 50 East Freedom Way\, Cincinnati\, OH 45202
UID:e.818.20159
SEQUENCE:3
DTSTAMP:20260420T081336Z
URL:https://business.hispanicchambercincinnati.com/events/details/american-roots-songs-of-the-underground-railroad-20159
END:VEVENT

END:VCALENDAR
