BEGIN:VCALENDAR
VERSION:2.0
PRODID:-//ChamberMaster//Event Calendar 2.0//EN
METHOD:PUBLISH
X-PUBLISHED-TTL:P3D
REFRESH-INTERVAL:P3D
CALSCALE:GREGORIAN
BEGIN:VEVENT
DTSTART:20250225T230000Z
DTEND:20250226T010000Z
X-MICROSOFT-CDO-ALLDAYEVENT:FALSE
SUMMARY:As Strong as The Woman Next to Me
DESCRIPTION:The Women's Business Center invites you to an evening of creativity and connection at the Happy Pot! Spend time among wonderful and empowered women in a relaxed\, fun atmosphere. If you're looking to expand your network and build meaningful friendships\, this is the perfect opportunity.\n\nFor only $20\, join us for:\n\n\n	Networking\n	Refreshments\n	A pottery painting session at the Happy Pot (all supplies included)\n\n\nTickets are limited\, so secure your spot today and enjoy an inspiring evening filled with creativity\, laughter\, and great company.\n\n\n\n\n\nAs Strong as The Woman Next to Me Series\n\nAs business professionals\, we understand the significance of a strong support network. That's why we're excited to bring women together in a collaborative atmosphere\, offering a space to create new connections and foster genuine friendships. You're not alone on your journey\, and we believe that together\, we become As Strong as The Woman Next to Me.
X-ALT-DESC;FMTTYPE=text/html:<div>\n<div>\n<p>The Women&#39\;s Business Center invites you to an evening of creativity and connection at the Happy Pot! Spend time among wonderful and empowered women in a relaxed\, fun atmosphere. If you&#39\;re looking to expand your network and build meaningful friendships\, this is the perfect opportunity.</p>\n\n<p>For only $20\, join us for:</p>\n\n<ul>\n	<li>Networking</li>\n	<li>Refreshments</li>\n	<li>A pottery painting session at the Happy Pot (all supplies included)</li>\n</ul>\n\n<p>Tickets are limited\, so secure your spot today and enjoy an inspiring evening filled with creativity\, laughter\, and great company.</p>\n</div>\n</div>\n\n<div>\n<div>\n<h3>As Strong as The Woman Next to Me Series</h3>\n\n<p>As business professionals\, we understand the significance of a strong support network. That&#39\;s why we&#39\;re excited to bring women together in a collaborative atmosphere\, offering a space to create new connections and foster genuine friendships. You&#39\;re not alone on your journey\, and we believe that together\, we become&nbsp\;As Strong as&nbsp\;The Woman Next to Me.</p>\n</div>\n</div>\n
LOCATION:The Happy Pot 522 2nd Street Portsmouth\, OH 45662
UID:e.818.21235
SEQUENCE:3
DTSTAMP:20260426T012256Z
URL:https://business.hispanicchambercincinnati.com/events/details/as-strong-as-the-woman-next-to-me-21235
END:VEVENT

END:VCALENDAR
