BEGIN:VCALENDAR
VERSION:2.0
PRODID:-//ChamberMaster//Event Calendar 2.0//EN
METHOD:PUBLISH
X-PUBLISHED-TTL:P3D
REFRESH-INTERVAL:P3D
CALSCALE:GREGORIAN
BEGIN:VEVENT
DTSTART:20250206T233000Z
DTEND:20250207T010000Z
X-MICROSOFT-CDO-ALLDAYEVENT:FALSE
SUMMARY:Bach to Blues: A Community Concert with Violinist Randall Goosby
DESCRIPTION:Experience an unforgettable evening of music at the National Underground Railroad Freedom Center as acclaimed violinist Randall Goosby presents Bach to Blues.\n\nThis unique program bridges classical and contemporary traditions\, pairing movements from J.S. Bach's timeless solo works with Coleridge-Taylor Perkinson's evocative Blue/s Forms Suite. Through this dynamic performance\, Goosby explores the connections between cultural heritage\, musical innovation\, and the enduring quest for artistic and social harmony.\n\n6:00 p.m. Doors Open\n\n6:30 p.m. Performance\n\n\n\n\n\n\n\n\n\nFollowing the performance\, we will have a short\, moderated Q&A session. Ask A Question
X-ALT-DESC;FMTTYPE=text/html:<div data-index="7" id="panel-5382-2-0-0">\n<div>\n<div>\n<div>\n<p>Experience an unforgettable evening of music at the National Underground Railroad Freedom Center as acclaimed violinist Randall Goosby presents Bach to Blues.</p>\n\n<p>This unique program bridges classical and contemporary traditions\, pairing movements from J.S. Bach&rsquo\;s timeless solo works with Coleridge-Taylor Perkinson&rsquo\;s evocative Blue/s Forms Suite. Through this dynamic performance\, Goosby explores the connections between cultural heritage\, musical innovation\, and the enduring quest for artistic and social harmony.</p>\n\n<p>6:00 p.m. Doors Open<br />\n6:30 p.m. Performance</p>\n</div>\n</div>\n</div>\n</div>\n\n<div data-index="8" id="panel-5382-2-0-1">\n<div>\n<div>\n<div>\n<p>Following the performance\, we will have a short\, moderated Q&amp\;A session.&nbsp\;<a href="https://cincymuseumcenter.qualtrics.com/jfe/form/SV_4Mwzsrx0Aq2mqZo">Ask A Question&rarr\;</a></p>\n</div>\n</div>\n</div>\n</div>\n
LOCATION:Harriet Tubman Theater
UID:e.818.21061
SEQUENCE:3
DTSTAMP:20260423T111204Z
URL:https://business.hispanicchambercincinnati.com/events/details/bach-to-blues-a-community-concert-with-violinist-randall-goosby-21061
END:VEVENT

END:VCALENDAR
