BEGIN:VCALENDAR
VERSION:2.0
PRODID:-//ChamberMaster//Event Calendar 2.0//EN
METHOD:PUBLISH
X-PUBLISHED-TTL:P3D
REFRESH-INTERVAL:P3D
CALSCALE:GREGORIAN
BEGIN:VEVENT
DTSTART:20221028T233000Z
DTEND:20221029T013000Z
X-MICROSOFT-CDO-ALLDAYEVENT:FALSE
SUMMARY:Ballet Hispanico
DESCRIPTION:Mutual Dance Theatre and Arts Centers and the Jefferson James Contemporary Dance Theater Series present Ballet Hisp nico from New York City\, fresh off its 50th-anniversary tour!\n\nBallet Hisp nico was founded by National Medal of Arts recipient Tina Ramirez in 1970\, and today has grown to be the largest Latinx cultural organization in the U.S. Ballet Hisp nico has been named one of America's Cultural Treasures\, celebrating and exploring Latinx cultures through dance.\n\nIn this mixed-repertory concert\, the world-class ensemble that dances with exquisite and virtuosic technique will perform the following works:\n\nTIBURONES by Annabelle Lopez Ochoa\n\nIn Tiburones\, internationally sought-after choreographer Annabelle Lopez Ochoa addresses the discrimination and stereotypes placed upon Latinx culture and the media's power to portray these themes by diminishing the voices of Latinx artists. Ochoa will deconstruct gender roles and identity to revitalize an authentic perspective of Puerto Rican icons appropriated within the entertainment industry.\n\n18+1 by Gustavo Ram rez Sansano\n\n18+1 celebrates Gustavo's 19 years as a choreographer and the vulnerability\, care\, and hope that come with each artistic endeavor. In a display of subtle humor and electric choreography\, the movement merges with the playful rhythms found in P rez Prado's mambo music. Sansano draws from his history and memory to take a joyous look at the past\, present\, and coming future. (Mutual Dance Theatre and the JJCDT fondly remember presenting Luna Negra under Gustavo's directorship in 2012.)\n\nCON BRAZOS ABIERTOS by Michelle Manzanales\n\nWith humility\, nostalgia\, and humor\, Michelle Manzanales explores the iconic Mexican symbols that she was reluctant to embrace as a Mexican-American child growing up in Texas. Intertwining folkloric details with a distinctly contemporary voice in dance\, set to music that ranges from Julio Iglesias to rock en Espa ol\, Con Brazos Abiertos is a fun and frank look at a life caught between two cultures.
X-ALT-DESC;FMTTYPE=text/html:<p>Mutual Dance Theatre and Arts Centers and the Jefferson James Contemporary Dance Theater Series present Ballet Hisp&aacute\;nico from New York City\, fresh off its&nbsp\;50th-anniversary tour!</p>\n\n<p>Ballet Hisp&aacute\;nico was founded by National Medal of Arts recipient Tina Ramirez in 1970\, and today&nbsp\;has grown to be the largest Latinx cultural organization in the U.S. Ballet Hisp&aacute\;nico has been named one of America&#39\;s Cultural Treasures\, celebrating and exploring Latinx cultures through dance.</p>\n\n<p>In this mixed-repertory concert\, the world-class ensemble that dances with exquisite and virtuosic technique&nbsp\;will perform the following works:</p>\n\n<p>TIBURONES&nbsp\;by Annabelle Lopez Ochoa</p>\n\n<p>In&nbsp\;Tiburones\, internationally sought-after choreographer Annabelle Lopez Ochoa addresses the discrimination and stereotypes placed upon Latinx culture and the media&#39\;s power to&nbsp\;portray&nbsp\;these themes by diminishing the voices of Latinx artists. Ochoa will deconstruct gender roles and identity to revitalize an authentic perspective of Puerto Rican icons appropriated within the entertainment industry.</p>\n\n<p>18+1&nbsp\;by Gustavo Ram&iacute\;rez Sansano</p>\n\n<p>18+1&nbsp\;celebrates Gustavo&#39\;s 19 years as a choreographer and the vulnerability\, care\, and hope that come with each artistic endeavor. In a display of subtle humor and electric choreography\, the movement merges with the playful rhythms found in P&eacute\;rez Prado&#39\;s mambo music. Sansano draws from his history and memory to take a joyous look at the past\, present\, and coming future. (Mutual Dance Theatre and the JJCDT fondly remember presenting Luna Negra under Gustavo&#39\;s directorship in 2012.)</p>\n\n<p>CON BRAZOS ABIERTOS&nbsp\;by Michelle Manzanales</p>\n\n<p>With humility\, nostalgia\, and humor\, Michelle Manzanales explores&nbsp\;the iconic Mexican symbols that she was reluctant to embrace as a Mexican-American child growing up in Texas. Intertwining folkloric details with a distinctly contemporary voice in dance\, set to music that ranges from Julio Iglesias to rock en Espa&ntilde\;ol\,&nbsp\;Con Brazos Abiertos&nbsp\;is a fun and frank look at a life caught between two cultures.</p>\n
LOCATION:Aronoff Center Jarson-Kaplan Theater
UID:e.818.17933
SEQUENCE:3
DTSTAMP:20260421T215752Z
URL:https://business.hispanicchambercincinnati.com/events/details/ballet-hispanico-17933
END:VEVENT

END:VCALENDAR
