BEGIN:VCALENDAR
VERSION:2.0
PRODID:-//ChamberMaster//Event Calendar 2.0//EN
METHOD:PUBLISH
X-PUBLISHED-TTL:P3D
REFRESH-INTERVAL:P3D
CALSCALE:GREGORIAN
BEGIN:VEVENT
DTSTART:20250218T160000Z
DTEND:20250218T173000Z
X-MICROSOFT-CDO-ALLDAYEVENT:FALSE
SUMMARY:Become a Stronger Leader with Emotional Intelligence
DESCRIPTION:Running a business means navigating challenges every day\, and your ability to handle emotions yours and others can make all the difference. Emotional intelligence (EQ) is a game-changer for building strong relationships\, making clear-headed decisions\, and leading with confidence.\n\nWhat you'll learn:\n\n\n	Understand the five key components of emotional intelligence.\n	Build stronger relationships with your team\, clients\, and partners.\n	Develop strategies to manage stress and stay resilient.\n	Use emotional awareness to improve decision-making and productivity.\n\n\nDon't miss this opportunity to strengthen your leadership skills and set your business up for long-term success.
X-ALT-DESC;FMTTYPE=text/html:<p>Running a business means navigating challenges every day\, and your ability to handle emotions&mdash\;yours and others&mdash\;can make all the difference. Emotional intelligence (EQ) is a game-changer for building strong relationships\, making clear-headed decisions\, and leading with confidence.</p>\n\n<p>What you&#39\;ll learn:</p>\n\n<ul>\n	<li>Understand the five key components of emotional intelligence.</li>\n	<li>Build stronger relationships with your team\, clients\, and partners.</li>\n	<li>Develop strategies to manage stress and stay resilient.</li>\n	<li>Use emotional awareness to improve decision-making and productivity.</li>\n</ul>\n\n<p>Don&rsquo\;t miss this opportunity to strengthen your leadership skills and set your business up for long-term success.</p>\n
LOCATION:Online
UID:e.818.21233
SEQUENCE:3
DTSTAMP:20260423T092325Z
URL:https://business.hispanicchambercincinnati.com/events/details/become-a-stronger-leader-with-emotional-intelligence-21233
END:VEVENT

END:VCALENDAR
