BEGIN:VCALENDAR
VERSION:2.0
PRODID:-//ChamberMaster//Event Calendar 2.0//EN
METHOD:PUBLISH
X-PUBLISHED-TTL:P3D
REFRESH-INTERVAL:P3D
CALSCALE:GREGORIAN
BEGIN:VEVENT
DTSTART:20230621T233000Z
DTEND:20230622T020000Z
X-MICROSOFT-CDO-ALLDAYEVENT:FALSE
SUMMARY:Better Business Bureau & FC Cincinnati
DESCRIPTION:FC Cincinnati is excited to host BBB Accredited Businesses & Charities at TQL Stadium on Wednesday\, June 21st at 7:30pm. Come out and cheer on FC Cincinnati as they battle Toronto FC! A portion of each ticket sold will go to support the BBB Center for Ethics Students of Integrity Scholarship program.\nWhen you're done buying\, you'll receive a unique link to share with friends. Everyone who buys from your link will sit with you at the game so you can pay separately but sit together!  All fans will receive their digital tickets through their SeatGeek account. For any questions/concerns\, please contact Matt Mulvanny at (513) 977-5401 or mulvanny@fccincinnati.com. All tickets will be mobile and can be accessed through the SeatGeek Mobile App.\n\n\n\nMobile Ticket Delivery:\n\nYou will receive an email from fevo with instructions to access your mobile tickets through your SeatGeek Account Manager.\n\nFC Cincinnati Account Manager
X-ALT-DESC;FMTTYPE=text/html:<p>FC Cincinnati is excited to host BBB Accredited Businesses &amp\; Charities at TQL Stadium on Wednesday\, June 21st at 7:30pm. Come out and cheer on FC Cincinnati as they battle Toronto FC! A portion of each ticket sold will go to support the BBB Center for Ethics Students of Integrity Scholarship program.</p>\nWhen you&rsquo\;re done buying\, you&rsquo\;ll receive a unique link to share with friends. Everyone who buys from your link will sit with you at the game so you can pay separately but sit together!&nbsp\; All fans will receive their digital tickets through their SeatGeek account. For any questions/concerns\, please contact Matt Mulvanny at (513) 977-5401 or&nbsp\;<a href="mailto:mulvanny@fccincinnati.com" target="_blank">mulvanny@fccincinnati.com</a>. All tickets will be mobile and can be accessed through the&nbsp\;<a href="https://seatgeek.com/mobile" target="_blank">SeatGeek Mobile App</a>.<br />\n<br />\nMobile Ticket Delivery:<br />\nYou will receive an email from fevo with instructions to access your mobile tickets through your SeatGeek Account Manager.<br />\n<a href="https://seatgeek.com/fccincinnati/login">FC Cincinnati Account Manager</a>
LOCATION:TQL Stadium 1501 Central Pkwy Cincinnati\, OH 45214
UID:e.818.18845
SEQUENCE:3
DTSTAMP:20260421T090352Z
URL:https://business.hispanicchambercincinnati.com/events/details/better-business-bureau-fc-cincinnati-18845
END:VEVENT

END:VCALENDAR
