BEGIN:VCALENDAR
VERSION:2.0
PRODID:-//ChamberMaster//Event Calendar 2.0//EN
METHOD:PUBLISH
X-PUBLISHED-TTL:P3D
REFRESH-INTERVAL:P3D
CALSCALE:GREGORIAN
BEGIN:VEVENT
DTSTART:20250308T190000Z
DTEND:20250308T203000Z
X-MICROSOFT-CDO-ALLDAYEVENT:FALSE
SUMMARY:Bock Fest Tasting Tour
DESCRIPTION:Kick off Bock Fest with a historic tour of Findlay Market studded with stop to Merchants all over the district. You'll hear from business owners about the city's rich German heritage and sample their German-inspired food to fuel your celebrations all evening long. Tickets are $35 and include all samples\, drinks\, and treats received during the tour. There are only 12 tickets available for this tour - buy yours today!\n\nParticipating Merchants\n\n\n	Churchill's Fine Teas: Hangover Relief Tea\n	Eckerlin Meats: Bockwurst\n	Harmony Plant Fare: Pretzel with Beer Cheese (Vegan)\n	Makers Bakers Co.: Mini Apple Strudel\n	The Rhined: Raclette Bratwurst Bites\n\n\nRefund Policy:\n\nThese tickets are non-refundable. In the event you are unable to come to the tour\, we will graciously accept your ticket sale as a donation to the Corporation for Findlay Market.
X-ALT-DESC;FMTTYPE=text/html:<p>Kick off Bock Fest with a historic tour of Findlay Market studded with stop to Merchants all over the district. You&#39\;ll hear from business owners about the city&#39\;s rich German heritage and sample their German-inspired food to fuel your celebrations all evening long. Tickets are $35 and include all samples\, drinks\, and treats received during the tour. There are only 12 tickets available for this tour - buy yours today!</p>\n\n<p>Participating Merchants</p>\n\n<ul>\n	<li><a href="https://findlaymarket.org/merchant/churchillsfineteas">Churchill&rsquo\;s Fine Teas</a>: Hangover Relief Tea</li>\n	<li><a href="https://findlaymarket.org/merchant/eckerlinmeats">Eckerlin Meats</a>: Bockwurst</li>\n	<li><a href="https://findlaymarket.org/merchant/harmonyplantfare">Harmony Plant Fare</a>: Pretzel with Beer Cheese (Vegan)</li>\n	<li><a href="https://findlaymarket.org/merchant/makersbakersco">Makers Bakers Co.</a>: Mini Apple Strudel</li>\n	<li><a href="https://findlaymarket.org/merchant/therhined">The Rhined</a>: Raclette Bratwurst Bites</li>\n</ul>\n\n<p data-pm-slice="1 1 []">Refund Policy:<br />\nThese tickets are non-refundable. In the event you are unable to come to the tour\, we will graciously accept your ticket sale as a donation to the&nbsp\;<a href="https://www.findlaymarket.org/marketmanagement">Corporation for Findlay Market</a>.</p>\n
LOCATION:Findlay Market 1801 Race Street Cincinnati 45202
UID:e.818.21249
SEQUENCE:3
DTSTAMP:20260423T124312Z
URL:https://business.hispanicchambercincinnati.com/events/details/bock-fest-tasting-tour-21249
END:VEVENT

END:VCALENDAR
