BEGIN:VCALENDAR
VERSION:2.0
PRODID:-//ChamberMaster//Event Calendar 2.0//EN
METHOD:PUBLISH
X-PUBLISHED-TTL:P3D
REFRESH-INTERVAL:P3D
CALSCALE:GREGORIAN
BEGIN:VEVENT
DTSTART:20230317T140000Z
DTEND:20230317T160000Z
X-MICROSOFT-CDO-ALLDAYEVENT:FALSE
SUMMARY:Bricktionary: The ultimate LEGO A-Z exhibition preview
DESCRIPTION:Please join us for a preview of Cincinnati Museum Center's newest featured exhibition and the world premiere of Bricktionary: The ultimate LEGO  A-Z.\n\n \n\nBricktionary features more than 150 custom-built LEGO  models inspired by the letters of the alphabet and clicked to life by Ryan "Brickman" McNaught   one of only 15 LEGO  certified professionals and host of LEGO  Master Australia. Brickman will be available to meet and answer questions.\n\n \n\nEnjoy a sneak peek of the exhibition as a leaping 10-foot orca towers overhead and a Saturn V rocket stretches from floor to ceiling. Test your building ability or unleash your inner child in one of four building zones\, including an earthquake simulator that will test your LEGO  structure.\n\n \n\nBricktionary: The ultimate LEGO  A-Z opens to the public Saturday\, March 18.\n\n \n\nWHEN: 10 a.m. to noon\, Friday\, March 17\n\n \n\nWHERE: Cincinnati Museum Center\n\n \n\nWHO: Meet Ryan "Brickman" McNaught\, the creative mind behind Bricktionary\, host of LEGO  Masters Australia and one of just 15 certified LEGO  professionals in the world.\n\n \n\nEXHIBITION TICKETS:\n\nAdult $22.50\n\nChild $17.50\n\nMember Adult $16.50\n\nMember Child $11.50\n\nUpgrade any ticket to a VIP ticket with unlimited day-of reentry and no entry time for just $5.
X-ALT-DESC;FMTTYPE=text/html:Please join us for a preview of Cincinnati Museum Center&rsquo\;s newest featured exhibition and the world premiere of&nbsp\;Bricktionary: The ultimate LEGO&reg\; A-Z.<br />\n&nbsp\;<br />\nBricktionary&nbsp\;features more than 150 custom-built LEGO&reg\; models inspired by the letters of the alphabet and clicked to life by Ryan &ldquo\;Brickman&rdquo\; McNaught &ndash\; one of only 15 LEGO&reg\; certified professionals and host of&nbsp\;LEGO&reg\; Master Australia. Brickman will be available to meet and answer questions.<br />\n&nbsp\;<br />\nEnjoy a sneak peek of the exhibition as a leaping 10-foot orca towers overhead and a Saturn V rocket stretches from floor to ceiling. Test your building ability or unleash your inner child in one of four building zones\, including an earthquake simulator that will test your LEGO&reg\; structure.<br />\n&nbsp\;<br />\nBricktionary: The ultimate LEGO&reg\; A-Z&nbsp\;opens to the public Saturday\, March 18.<br />\n&nbsp\;<br />\nWHEN:&nbsp\;10 a.m. to noon\, Friday\, March 17<br />\n&nbsp\;<br />\nWHERE:&nbsp\;Cincinnati Museum Center<br />\n&nbsp\;<br />\nWHO:&nbsp\;Meet Ryan &ldquo\;Brickman&rdquo\; McNaught\, the creative mind behind&nbsp\;Bricktionary\, host of&nbsp\;LEGO&reg\; Masters Australia&nbsp\;and one of just 15 certified LEGO&reg\; professionals in the world.<br />\n&nbsp\;<br />\nEXHIBITION TICKETS:<br />\nAdult $22.50<br />\nChild $17.50<br />\nMember Adult $16.50<br />\nMember Child $11.50<br />\nUpgrade any ticket to a VIP ticket with unlimited day-of reentry and no entry time for just $5.
LOCATION:Cincinnati Museum Center
UID:e.818.18670
SEQUENCE:3
DTSTAMP:20260423T223401Z
URL:https://business.hispanicchambercincinnati.com/events/details/bricktionary-the-ultimate-lego-a-z-exhibition-preview-18670
END:VEVENT

END:VCALENDAR
