BEGIN:VCALENDAR
VERSION:2.0
PRODID:-//ChamberMaster//Event Calendar 2.0//EN
METHOD:PUBLISH
X-PUBLISHED-TTL:P3D
REFRESH-INTERVAL:P3D
CALSCALE:GREGORIAN
BEGIN:VEVENT
DTSTART:20250318T160000Z
DTEND:20250318T170000Z
X-MICROSOFT-CDO-ALLDAYEVENT:FALSE
SUMMARY:Building a Successful Franchise Business
DESCRIPTION:Are you curious about franchise ownership and what it takes to succeed? Join us for this engaging virtual workshop\, where we'll break down the fundamentals of franchising\, explore its benefits\, and debunk common myths. You'll hear firsthand insights from Constance Hill Johnson\, owner of Visiting Angels\, as she shares her journey\, challenges\, and key strategies for success.\n\n\n\nTopics covered:\n\n\n	The benefits of franchising\, including brand support\, marketing\, and training\n	Common myths and misconceptions about franchising\n	Key strategies for success and how to overcome challenges\n	Financial considerations and funding options available\n	Best practices to get started on the right foot\n\n	\n\n	Don't miss this opportunity to learn\, ask questions\, and explore the path to franchise ownership!
X-ALT-DESC;FMTTYPE=text/html:<p>Are you curious about franchise ownership and what it takes to succeed? Join us for this engaging virtual workshop\, where we&rsquo\;ll break down the fundamentals of franchising\, explore its benefits\, and debunk common myths. You&rsquo\;ll hear firsthand insights from Constance Hill Johnson\, owner of Visiting Angels\, as she shares her journey\, challenges\, and key strategies for success.<br />\n<br />\nTopics covered:</p>\n\n<ul>\n	<li>The benefits of franchising\, including brand support\, marketing\, and training</li>\n	<li>Common myths and misconceptions about franchising</li>\n	<li>Key strategies for success and how to overcome challenges</li>\n	<li>Financial considerations and funding options available</li>\n	<li>Best practices to get started on the right foot<br />\n	<br />\n	Don&#39\;t miss this opportunity to learn\, ask questions\, and explore the path to franchise ownership!</li>\n</ul>\n
LOCATION:Online
UID:e.818.21261
SEQUENCE:3
DTSTAMP:20260419T135050Z
URL:https://business.hispanicchambercincinnati.com/events/details/building-a-successful-franchise-business-21261
END:VEVENT

END:VCALENDAR
