BEGIN:VCALENDAR
VERSION:2.0
PRODID:-//ChamberMaster//Event Calendar 2.0//EN
METHOD:PUBLISH
X-PUBLISHED-TTL:P3D
REFRESH-INTERVAL:P3D
CALSCALE:GREGORIAN
BEGIN:VEVENT
DTSTART:20240919T203000Z
DTEND:20240919T223000Z
X-MICROSOFT-CDO-ALLDAYEVENT:FALSE
SUMMARY:Business After Hours
DESCRIPTION:Join us for the next Business After Hours sponsored by Frost Brown Todd on September 19\, 2024 from 4:30-6:30 PM.  \n\nBusiness After Hours\n\nLocation: Wenzel Whiskey - 15 Tobacco Alley\, Covington\, KY 41011\n\nTime: 4:30-6:30 PM\n\nBusiness After Hours is a networking event that focuses on bringing together members and future members of the NKY Chamber of Commerce to develop professional relationships.  Expand your network\, make new connections and have some fun! \n\nAs always... Business After Hours is free to attend for both NKY Chamber members and future members and pre-registration is appreciated.  Click the REGISTER button to secure your spot! Invite co-workers and friends to join you.\n\nThere will be light appetizers and a cash bar available for you to enjoy.\nIf you have a registration issue contact Beth Farrer (bfarrer@nkychamber.com) to receive assistance.
X-ALT-DESC;FMTTYPE=text/html:<p>Join us for the next Business After Hours sponsored by&nbsp\;<a fr-original-style="" href="https://frostbrowntodd.com/">F</a><a fr-original-style="" href="https://frostbrowntodd.com/">rost Brown Todd</a>&nbsp\;on&nbsp\;September 19\, 2024&nbsp\;from&nbsp\;4:30-6:30 PM.&nbsp\;&nbsp\;</p>\n\n<p>Business After Hours<br />\nLocation:&nbsp\;<a fr-original-style="" href="https://www.wenzelwhiskey.com/">Wenzel Whiskey</a>&nbsp\;- 15 Tobacco Alley\, Covington\, KY 41011<br />\nTime: 4:30-6:30 PM</p>\n\n<p>Business After Hours is a networking event that focuses on bringing together members and future members of the NKY Chamber of Commerce to develop professional relationships. &nbsp\;Expand your network\, make new connections and have some fun!&nbsp\;</p>\n\n<p>As always... Business After Hours is free to attend for both NKY Chamber members and future members and pre-registration is appreciated. &nbsp\;Click the&nbsp\;REGISTER&nbsp\;button to secure your spot! Invite co-workers and friends to join you.</p>\n\n<p>There will be&nbsp\;light appetizers and a cash bar available for you to enjoy.</p>\nIf you have a registration issue contact Beth Farrer (bfarrer@nkychamber.com) to receive assistance.
LOCATION:Wenzel Whiskey 15 Tobacco Alley\, Covington\, KY 41011
UID:e.818.20172
SEQUENCE:3
DTSTAMP:20260420T161645Z
URL:https://business.hispanicchambercincinnati.com/events/details/business-after-hours-20172
END:VEVENT

END:VCALENDAR
