BEGIN:VCALENDAR
VERSION:2.0
PRODID:-//ChamberMaster//Event Calendar 2.0//EN
METHOD:PUBLISH
X-PUBLISHED-TTL:P3D
REFRESH-INTERVAL:P3D
CALSCALE:GREGORIAN
BEGIN:VEVENT
DTSTART:20241205T150000Z
DTEND:20241205T180000Z
X-MICROSOFT-CDO-ALLDAYEVENT:FALSE
SUMMARY:Business Financial Open House
DESCRIPTION:Come check out DEI's Business Financial Open House to network with financial institutions and learn about how to grow your business!\n\n \nJoin the Department of Economic Inclusion at our Business Financial Open House Thursday\, December 5th\, 10 a.m. - 1 p.m. at the Walnut Hills Branch Library\, 2533 Kemper Lane\, Cincinnati\, OH 45206.\n\nThe event will provide the opportunity to network with financial institutions and grant providers and they discuss access to capital programs\, upcoming initiatives\, and exciting business partnership opportunities.\n\nThe event is free and open to the public\, and registration is optional but not required. We look forward to seeing you there!
X-ALT-DESC;FMTTYPE=text/html:Come check out DEI&#39\;s Business Financial Open House to network with financial institutions and learn about how to grow your business!<br />\n&nbsp\;\n<p>Join the Department of Economic Inclusion at our Business Financial Open House Thursday\, December 5th\, 10 a.m. - 1 p.m. at the Walnut Hills Branch Library\, 2533 Kemper Lane\, Cincinnati\, OH 45206.</p>\n\n<p>The event will provide the opportunity to network with financial institutions and grant providers and they discuss access to capital programs\, upcoming initiatives\, and exciting business partnership opportunities.</p>\n\n<p>The event is free and open to the public\, and registration is optional but not required. We look forward to seeing you there!</p>\n
LOCATION:2533 Kemper Lane Cincinnati\, OH 45206
UID:e.818.20614
SEQUENCE:3
DTSTAMP:20260420T122250Z
URL:https://business.hispanicchambercincinnati.com/events/details/business-financial-open-house-20614
END:VEVENT

END:VCALENDAR
