BEGIN:VCALENDAR
VERSION:2.0
PRODID:-//ChamberMaster//Event Calendar 2.0//EN
METHOD:PUBLISH
X-PUBLISHED-TTL:P3D
REFRESH-INTERVAL:P3D
CALSCALE:GREGORIAN
BEGIN:VEVENT
DTSTART:20221028T160000Z
DTEND:20221028T170000Z
X-MICROSOFT-CDO-ALLDAYEVENT:FALSE
SUMMARY:CAA 58th Annual Luncheon
DESCRIPTION:Community Action Agency's 58th Annual Luncheon is an opportunity to celebrate the achievements of the past year and honor those who have made an impact on our community and our mission.\n\nCAA's theme this year is Improving our Community\, One Family at a Time. This year we will honor individuals\, families\, and our community by sharing their stories of perseverance and courage during this disruptive and difficult pandemic year. \n\n\n\nLearn more about the families we have helped.\n\n\n2022 SPONSORSHIP OPPORTUNITIES \n\nPlease consider sponsoring this event and supporting your Community Action Agency. Our Annual Luncheon is an excellent opportunity for your organization to gain valuable exposure within the community while supporting a worthy cause.\n\nClick here to view our virtual sponsorship opportunities.\n\nYou can contact Nikki Williams at 513-309-9059 or nwilliams@cincy-caa.org.
X-ALT-DESC;FMTTYPE=text/html:<p>Community Action Agency&#39\;s 58th Annual Luncheon is an opportunity to celebrate the achievements of the past year and honor those who have made an impact on our community and our&nbsp\;mission.</p>\n\n<p>CAA&rsquo\;s theme this year is&nbsp\;Improving our Community\, One Family at a Time.&nbsp\;This year we will honor individuals\, families\, and our community by sharing their stories of perseverance and courage during this disruptive and difficult pandemic year.&nbsp\;<br />\n<br />\n<a href="https://www.cincy-caa.org/who-we-are/caaimpact.html">Learn more about the families we have helped.</a></p>\n\n<hr />\n<h4 color:="" letter-spacing:="" open="" text-transform:="">2022 SPONSORSHIP OPPORTUNITIES&nbsp\;</h4>\n\n<p>Please consider sponsoring this event and supporting your Community Action Agency. Our Annual Luncheon is an excellent opportunity for your organization to gain valuable exposure within the community while supporting a worthy cause.</p>\n\n<p><a href="https://www.cincy-caa.org/file_download/5fed9364-2a8c-45b4-849f-93bcc6d187e9">Click here to view our virtual sponsorship opportunities.</a></p>\n\n<p>You can contact&nbsp\;Nikki Williams at 513-309-9059 or&nbsp\;<a href="mailto:nwilliams@cincy-caa.org?subject=2022%20Annual%20Luncheon%20Sponsorship%20Opportunity">nwilliams@cincy-caa.org.</a>&nbsp\;<br />\n&nbsp\;</p>\n
LOCATION:Cintas Center
UID:e.818.17937
SEQUENCE:3
DTSTAMP:20260421T215223Z
URL:https://business.hispanicchambercincinnati.com/events/details/caa-58th-annual-luncheon-17937
END:VEVENT

END:VCALENDAR
