BEGIN:VCALENDAR
VERSION:2.0
PRODID:-//ChamberMaster//Event Calendar 2.0//EN
METHOD:PUBLISH
X-PUBLISHED-TTL:P3D
REFRESH-INTERVAL:P3D
CALSCALE:GREGORIAN
BEGIN:VEVENT
DTSTART:20230805T220000Z
DTEND:20230806T030000Z
X-MICROSOFT-CDO-ALLDAYEVENT:FALSE
SUMMARY:Casa De Paz Fiesta Latina 2023
DESCRIPTION:Casa De Paz and St. Susana's Hispanic Ministry invite you to Fiesta Latina 2023\nJoin us for a Fiesta Latina with a delicious dinner\, silent auction\, show\, and live music entertainment. All funds support Casa de Paz\, a culturally sensitive temporary home for survivors of domestic violence. \n\n\n\nWhere:\n\nMeyer Center\, St. Susanna\n\n500 Reading Road\, Mason\, OH\, USA\n\n\n\nQuestions:\n\nCasa De Paz\nVisit our website by clicking the logo above\, or email Alejandra Best: alejandrabest@casadepazcinci.org
X-ALT-DESC;FMTTYPE=text/html:<p data-mce-style="text-align: center\;">Casa De Paz and St. Susana&#39\;s Hispanic Ministry invite you to&nbsp\;Fiesta Latina 2023</p>\nJoin us for a Fiesta Latina with a delicious dinner\, silent auction\, show\, and live music entertainment. All funds support Casa de Paz\, a culturally sensitive temporary home for survivors of domestic violence.&nbsp\;<br />\n<br />\nWhere:<br />\nMeyer Center\, St. Susanna<br />\n500 Reading Road\, Mason\, OH\, USA<br />\n<br />\nQuestions:<br />\nCasa De Paz\n<div>Visit our website by clicking the logo above\, or email Alejandra Best:&nbsp\;<a href="mailto:alejandrabest@casadepazcinci.org">alejandrabest@casadepazcinci.org</a></div>\n
LOCATION:Meyer Center\, St. Susanna 500 Reading Road\, Mason\, OH\, USA
UID:e.818.18985
SEQUENCE:3
DTSTAMP:20260421T051207Z
URL:https://business.hispanicchambercincinnati.com/events/details/casa-de-paz-fiesta-latina-2023-18985
END:VEVENT

END:VCALENDAR
