BEGIN:VCALENDAR
VERSION:2.0
PRODID:-//ChamberMaster//Event Calendar 2.0//EN
METHOD:PUBLISH
X-PUBLISHED-TTL:P3D
REFRESH-INTERVAL:P3D
CALSCALE:GREGORIAN
BEGIN:VEVENT
DTSTART:20250312T230000Z
DTEND:20250313T000000Z
X-MICROSOFT-CDO-ALLDAYEVENT:FALSE
SUMMARY:Celebrate the Zoo’s 150th anniversary at the Barrows Conservation Lecture Series!
DESCRIPTION:Since 1993\, the Barrows Conservation Lecture Series has brought a slate of esteemed naturalists and scientists to Cincinnati to address wildlife issues and global conservation efforts.  For more that three decades\, the Cincinnati Zoo & Botanical Garden has presented its Wildlife Conservation Award to one of its Barrows Conservation Lecture Series speakers.\n\nThe Barrows Conservation Lecture Series is made possible by the ongoing support of the family of Winifred & Emil Barrows.\n\nFanny Minesi\n\nMarch 12\n\nBonobos\, Matriarchs & Community Conservation: Facing Challenges in Congo
X-ALT-DESC;FMTTYPE=text/html:<p>Since 1993\, the&nbsp\;Barrows Conservation Lecture Series&nbsp\;has brought a slate of esteemed naturalists and scientists to Cincinnati to address wildlife issues and global conservation efforts.&nbsp\;&nbsp\;For more that three decades\, the Cincinnati Zoo &amp\; Botanical Garden has presented its Wildlife Conservation Award to one of its Barrows Conservation Lecture Series speakers.</p>\n\n<p>The Barrows Conservation Lecture Series is made possible by the ongoing support of the family of Winifred &amp\; Emil Barrows.</p>\n\n<p>Fanny Minesi<br />\nMarch 12<br />\nBonobos\, Matriarchs &amp\; Community Conservation: Facing Challenges in Congo</p>\n
LOCATION:3400 Vine St\, Cincinnati\, OH 45220 Frisch's Theater\, Harold C Schott Education Building Know Before You Arrive Park in the Education Parking Lot\, Gate 1. 52 Erkenbrecher Ave
UID:e.818.21124
SEQUENCE:3
DTSTAMP:20260423T111427Z
URL:https://business.hispanicchambercincinnati.com/events/details/celebrate-the-zoo-s-150th-anniversary-at-the-barrows-conservation-lecture-series-21124
END:VEVENT

END:VCALENDAR
