BEGIN:VCALENDAR
VERSION:2.0
PRODID:-//ChamberMaster//Event Calendar 2.0//EN
METHOD:PUBLISH
X-PUBLISHED-TTL:P3D
REFRESH-INTERVAL:P3D
CALSCALE:GREGORIAN
BEGIN:VEVENT
DTSTART:20230115T150000Z
DTEND:20230115T210000Z
X-MICROSOFT-CDO-ALLDAYEVENT:FALSE
SUMMARY:Chili Fest
DESCRIPTION:The hottest event in town is BACK!\n\nJoin us for our annual Chili Fest on Sunday\, January 15th from 10am   4pm. Warm up and enjoy a spicy market event sampling chili and other chili-themed foods from our participating vendors around the market.\n\nParticipating Merchants:\n\n\n	The Arepa Place - Mini Cheese Arepa with Salsa Roja\n	BanaSun Smoothie Bar - Hot Shot (Wellness Shot)\n	Bouchard's - All American Mild Heat Turkey & Beef Chili topped with Alfredo Sauce and Served with a Toasted Ciabatta Slice\n	C herbourg Cyprus - Cornbread Muffin\n	Churchill's Fine Teas - Some Like It Hot Black Tea\n	Dats Ole School Cookin' - White Bean & Turkey Chili and Traditional Beef Chili\n	Dean's Mediterranean Imports - Moroccan Chickpea Chili\n	Deeper Roots - Holy Moly (Mexican Mocha)\n	Eckerlin Meats - Texas Beer Bacon Chili\n	Em's Bread - Jalape o Cheese Bread\n	Flavors of the Isle - BBQ Mac and Cheese\n	Gramma Debbie's Kitchen - Vegan\, Chicken\, and Beef Chili\n	Harmony Plant Fare - Cincy Style Chili Grilled Cheese\n	Jane's - Not so Chili (Tequila/ Lime/ Coconut/ Tajin)\n	Luken's Poultry\, Fish & Seafood - Smoked Turkey Chili\n	Neil Luken Meats - Damn Good Chili\n	Makers Bakers Co. - Mango Habanero Cheesecake or Vanilla Cheesecake Topped with Strawberry Jalape o Sauce\n	Mama Lo Hizo - Mexican Style Chili\n	Mama Made It - Sweet & Salty Popcorn\n	Maverick Chocolate Co. - Fahrenheit 513 Hot Chocolate\n	The Rhined - Baked Chili Mac Cups\n	Sen by Kiki - Kimchili\n	Taste of Belgium - Belgian Chili\n\n\nTicket Pricing:\n\n2 Packages\n\n\n	5 for $10\n	12 for $20\n\n\nSplit the Pot:\n\nSplit the (Chili) Pot with us! Purchase your split the pot tickets for a chance to walk away with the grand prize. Half of the pot goes in your wallet while the other half supports Findlay Market's local food initiatives\, entrepreneurship programs\, and beautification of the Market District\n\n$5 for 1 ticket\n\n$20 for 5 tickets\n\nPurchase tickets here: https://www.betterunite.com/findlaymarket-chilifest/Donate\n\nPlease note: We are not accepting additional vendors for this event. If you are interested in vending at Findlay Market\, please visit https://www.findlaymarket.org/startyourbusiness. We only accept applications through this website\, not through any other social media platforms.
X-ALT-DESC;FMTTYPE=text/html:<p>The hottest event in town is BACK!</p>\n\n<p>Join us for our annual Chili Fest on Sunday\, January 15th from 10am &ndash\; 4pm. Warm up and enjoy a spicy market event sampling chili and other chili-themed foods from our participating vendors around the market.</p>\n\n<p>Participating Merchants:</p>\n\n<ul>\n	<li>The Arepa Place - Mini Cheese Arepa with Salsa Roja</li>\n	<li>BanaSun Smoothie Bar - Hot Shot (Wellness Shot)</li>\n	<li>Bouchard&#39\;s - All American Mild Heat Turkey &amp\; Beef Chili topped with Alfredo Sauce and Served with a Toasted Ciabatta Slice</li>\n	<li>C&#65279\;herbourg Cyprus - Cornbread Muffin</li>\n	<li>Churchill&#39\;s Fine Teas - Some Like It Hot Black Tea</li>\n	<li>Dats Ole School Cookin&rsquo\; - White Bean &amp\; Turkey Chili and Traditional Beef Chili</li>\n	<li>Dean&#39\;s Mediterranean Imports - Moroccan Chickpea Chili</li>\n	<li>Deeper Roots - Holy Moly (Mexican Mocha)</li>\n	<li>Eckerlin Meats - Texas Beer Bacon Chili</li>\n	<li>Em&rsquo\;s Bread - Jalape&ntilde\;o Cheese Bread</li>\n	<li>Flavors of the Isle - BBQ Mac and Cheese</li>\n	<li>Gramma Debbie&#39\;s Kitchen - Vegan\, Chicken\, and Beef Chili</li>\n	<li>Harmony Plant Fare - Cincy Style Chili Grilled Cheese</li>\n	<li>Jane&rsquo\;s - Not so Chili (Tequila/ Lime/ Coconut/ Tajin)</li>\n	<li>Luken&rsquo\;s Poultry\, Fish &amp\; Seafood - Smoked Turkey Chili</li>\n	<li>Neil Luken Meats - Damn Good Chili</li>\n	<li>Makers Bakers Co. - Mango Habanero Cheesecake or Vanilla Cheesecake Topped with Strawberry Jalape&ntilde\;o Sauce</li>\n	<li>Mama Lo Hizo - Mexican Style Chili</li>\n	<li>Mama Made It - Sweet &amp\; Salty Popcorn</li>\n	<li>Maverick Chocolate Co. - Fahrenheit 513 Hot Chocolate</li>\n	<li>The Rhined - Baked Chili Mac Cups</li>\n	<li>Sen by Kiki - Kimchili</li>\n	<li>Taste of Belgium - Belgian Chili</li>\n</ul>\n\n<p>Ticket Pricing:</p>\n\n<p>2 Packages</p>\n\n<ul>\n	<li>5 for $10</li>\n	<li>12 for $20</li>\n</ul>\n\n<p>Split the Pot:</p>\n\n<p>Split the (Chili) Pot with us! Purchase your split the pot tickets for a chance to walk away with the grand prize. Half of the pot goes in your wallet while the other half supports Findlay Market&rsquo\;s local food initiatives\, entrepreneurship programs\, and beautification of the Market District</p>\n\n<p>$5 for 1 ticket</p>\n\n<p>$20 for 5 tickets</p>\n\n<p>Purchase tickets here: https://www.betterunite.com/findlaymarket-chilifest/Donate</p>\n\n<p>Please note: We are not accepting additional vendors for this event. If you are interested in vending at Findlay Market\, please visit https://www.findlaymarket.org/startyourbusiness. We only accept applications through this website\, not through any other social media platforms.</p>\n
LOCATION:Findlay Market 1801 Race St Cincinnati\, OH 45202
UID:e.818.18566
SEQUENCE:3
DTSTAMP:20260424T104808Z
URL:https://business.hispanicchambercincinnati.com/events/details/chili-fest-18566
END:VEVENT

END:VCALENDAR
