BEGIN:VCALENDAR
VERSION:2.0
PRODID:-//ChamberMaster//Event Calendar 2.0//EN
METHOD:PUBLISH
X-PUBLISHED-TTL:P3D
REFRESH-INTERVAL:P3D
CALSCALE:GREGORIAN
BEGIN:VEVENT
DTSTART:20230610T180000Z
DTEND:20230610T210000Z
X-MICROSOFT-CDO-ALLDAYEVENT:FALSE
SUMMARY:Cincinnati Ballet Bold Moves Festival
DESCRIPTION:Tickets start at $29\n\nUSE CODE: HISPANIC \n\nSave 25% off tickets to one program or buy both programs and save 50% off tickets\n\n \n\nWith two diverse programs\, the Festival is truly a bold exploration of dance that features multiple works from world-renowned choreographers\, including Cincinnati Ballet resident choreographer Jennifer Archibald's SIT\, Val Caniparoli's Ibsen's House\, William Forsythe's In the middle\, somewhat elevated\, Annabelle Lopez Ochoa's Written and Forgotten and Garrett Smith's Fa ades. The production also includes a to be determined work that will be programmed by Cincinnati Ballet's incoming Artistic Director\, Jodie Gates.\n\n \n\nAn immersive dance experience\n\n \n\nBOLD MOVES FESTIVAL: PROGRAM 1\n\nSIT\n\nChoreography: Jennifer Archibald\n\nMusic: Midnite\, Hang and Balance\; The Art of Fusion Drumming\, Taufiq Qureshi\; Komodo\, Maro Jailo\n\n \n\nIn the Middle\, Somewhat Elevated\n\nChoreography: William Forsythe\n\nMusic: Thom Willems\n\n \n\nGuest Artist: Irene Rodriguez\n\nA Rose by any other Name\n\nChoreography: Irene Rodriguez\n\nMusic: Cristian Puig\, Damir Fuentes\n\n \n\n__________________________________________\n\n \n\n \n\nBOLD MOVES FESTIVAL: PROGRAM 2\n\nIbsen's House\n\nChoreography: Val Caniparoli\n\nMusic: Quintet in A Major\, Op. 81 for Piano\, Two Violins\, Viola\, and Cello\, Anton n Dvo  k\n\n \n\nWritten and Forgotten\n\nChoreography: Anabelle Lopez Ochoa\n\nMusic: Aris Dimitriadis\, Rene Aubry\, Lisa Gerrard\, Manuel Wandji\, Madeleine Peyroux\n\n \n\nFa ades\n\nChoreography: Garrett Smith\n\nMusic: Philip Glass\, George F. Handel\, Antonio Vivaldi
X-ALT-DESC;FMTTYPE=text/html:<p style="color: rgb(14\, 16\, 26)\; background-image: none\; background-position: 0%\; background-size: auto\; background-repeat: repeat\; background-attachment: scroll\; background-origin: padding-box\; background-clip: border-box\; margin-top: 0pt\; margin-bottom: 0pt\;"><strong><span data-preserver-spaces="true" style="background-image: none\; background-position: 0%\; background-size: auto\; background-repeat: repeat\; background-attachment: scroll\; background-origin: padding-box\; background-clip: border-box\; margin-top: 0pt\; margin-bottom: 0pt\;">Tickets start at $29</span></strong></p>\n\n<p style="color: rgb(14\, 16\, 26)\; background-image: none\; background-position: 0%\; background-size: auto\; background-repeat: repeat\; background-attachment: scroll\; background-origin: padding-box\; background-clip: border-box\; margin-top: 0pt\; margin-bottom: 0pt\;"><strong><span data-preserver-spaces="true" style="background-image: none\; background-position: 0%\; background-size: auto\; background-repeat: repeat\; background-attachment: scroll\; background-origin: padding-box\; background-clip: border-box\; margin-top: 0pt\; margin-bottom: 0pt\;">USE CODE: HISPANIC&nbsp\;</span></strong></p>\n\n<p style="color: rgb(14\, 16\, 26)\; background-image: none\; background-position: 0%\; background-size: auto\; background-repeat: repeat\; background-attachment: scroll\; background-origin: padding-box\; background-clip: border-box\; margin-top: 0pt\; margin-bottom: 0pt\;"><strong><span data-preserver-spaces="true" style="background-image: none\; background-position: 0%\; background-size: auto\; background-repeat: repeat\; background-attachment: scroll\; background-origin: padding-box\; background-clip: border-box\; margin-top: 0pt\; margin-bottom: 0pt\;">Save 25% off tickets to one program or buy both programs and save 50% off tickets</span></strong></p>\n\n<p style="color: rgb(14\, 16\, 26)\; background-image: none\; background-position: 0%\; background-size: auto\; background-repeat: repeat\; background-attachment: scroll\; background-origin: padding-box\; background-clip: border-box\; margin-top: 0pt\; margin-bottom: 0pt\;"><span data-preserver-spaces="true" style="background-image: none\; background-position: 0%\; background-size: auto\; background-repeat: repeat\; background-attachment: scroll\; background-origin: padding-box\; background-clip: border-box\; margin-top: 0pt\; margin-bottom: 0pt\;">&#8203\;</span></p>\n\n<p style="color: rgb(14\, 16\, 26)\; background-image: none\; background-position: 0%\; background-size: auto\; background-repeat: repeat\; background-attachment: scroll\; background-origin: padding-box\; background-clip: border-box\; margin-top: 0pt\; margin-bottom: 0pt\;"><span style="caret-color: rgb(14\, 16\, 26)\; color: rgb(14\, 16\, 26)\;">With two diverse programs\, the Festival is truly a bold exploration of dance that features multiple works from world-renowned choreographers\, including Cincinnati Ballet resident choreographer Jennifer Archibald&#39\;s SIT\, Val Caniparoli&#39\;</span><span style="caret-color: rgb(14\, 16\, 26)\; color: rgb(14\, 16\, 26)\;">s Ibsen&#39\;</span><span style="caret-color: rgb(14\, 16\, 26)\; color: rgb(14\, 16\, 26)\;">s House\, William Forsythe&#39\;s</span><span style="caret-color: rgb(14\, 16\, 26)\; color: rgb(14\, 16\, 26)\;">&nbsp\;In the middle\, somewhat elevated\, Annabelle Lopez Ochoa&#39\;s Written and Forgotten and Garrett Smith&#39\;</span><span style="caret-color: rgb(14\, 16\, 26)\; color: rgb(14\, 16\, 26)\;">s Fa&ccedil\;ades. The production also includes a to be determined work that will be programmed by Cincinnati Ballet&#39\;</span><span style="caret-color: rgb(14\, 16\, 26)\; color: rgb(14\, 16\, 26)\;">s incoming Artistic Director\, Jodie Gates.</span></p>\n\n<p style="color: rgb(14\, 16\, 26)\; background-image: none\; background-position: 0%\; background-size: auto\; background-repeat: repeat\; background-attachment: scroll\; background-origin: padding-box\; background-clip: border-box\; margin-top: 0pt\; margin-bottom: 0pt\;">&nbsp\;</p>\n\n<p style="color: rgb(14\, 16\, 26)\; background-image: none\; background-position: 0%\; background-size: auto\; background-repeat: repeat\; background-attachment: scroll\; background-origin: padding-box\; background-clip: border-box\; margin-top: 0pt\; margin-bottom: 0pt\;"><span data-preserver-spaces="true" style="background-image: none\; background-position: 0%\; background-size: auto\; background-repeat: repeat\; background-attachment: scroll\; background-origin: padding-box\; background-clip: border-box\; margin-top: 0pt\; margin-bottom: 0pt\;">An immersive dance experience</span></p>\n\n<p style="color: rgb(14\, 16\, 26)\; background-image: none\; background-position: 0%\; background-size: auto\; background-repeat: repeat\; background-attachment: scroll\; background-origin: padding-box\; background-clip: border-box\; margin-top: 0pt\; margin-bottom: 0pt\;">&nbsp\;</p>\n\n<p style="color: rgb(14\, 16\, 26)\; background-image: none\; background-position: 0%\; background-size: auto\; background-repeat: repeat\; background-attachment: scroll\; background-origin: padding-box\; background-clip: border-box\; margin-top: 0pt\; margin-bottom: 0pt\;"><strong style="background-image: none\; background-position: 0%\; background-size: auto\; background-repeat: repeat\; background-attachment: scroll\; background-origin: padding-box\; background-clip: border-box\; margin-top: 0pt\; margin-bottom: 0pt\;">BOLD MOVES FESTIVAL: PROGRAM 1</strong></p>\n\n<p style="color: rgb(14\, 16\, 26)\; background-image: none\; background-position: 0%\; background-size: auto\; background-repeat: repeat\; background-attachment: scroll\; background-origin: padding-box\; background-clip: border-box\; margin-top: 0pt\; margin-bottom: 0pt\;"><span data-preserver-spaces="true" style="background-image: none\; background-position: 0%\; background-size: auto\; background-repeat: repeat\; background-attachment: scroll\; background-origin: padding-box\; background-clip: border-box\; margin-top: 0pt\; margin-bottom: 0pt\;">SIT</span></p>\n\n<p style="color: rgb(14\, 16\, 26)\; background-image: none\; background-position: 0%\; background-size: auto\; background-repeat: repeat\; background-attachment: scroll\; background-origin: padding-box\; background-clip: border-box\; margin-top: 0pt\; margin-bottom: 0pt\;"><span data-preserver-spaces="true" style="background-image: none\; background-position: 0%\; background-size: auto\; background-repeat: repeat\; background-attachment: scroll\; background-origin: padding-box\; background-clip: border-box\; margin-top: 0pt\; margin-bottom: 0pt\;">Choreography: Jennifer Archibald</span></p>\n\n<p style="color: rgb(14\, 16\, 26)\; background-image: none\; background-position: 0%\; background-size: auto\; background-repeat: repeat\; background-attachment: scroll\; background-origin: padding-box\; background-clip: border-box\; margin-top: 0pt\; margin-bottom: 0pt\;"><span data-preserver-spaces="true" style="background-image: none\; background-position: 0%\; background-size: auto\; background-repeat: repeat\; background-attachment: scroll\; background-origin: padding-box\; background-clip: border-box\; margin-top: 0pt\; margin-bottom: 0pt\;">Music: Midnite\, Hang and Balance\; The Art of Fusion Drumming\, Taufiq Qureshi\; Komodo\, Maro Jailo</span></p>\n\n<p style="color: rgb(14\, 16\, 26)\; background-image: none\; background-position: 0%\; background-size: auto\; background-repeat: repeat\; background-attachment: scroll\; background-origin: padding-box\; background-clip: border-box\; margin-top: 0pt\; margin-bottom: 0pt\;">&nbsp\;</p>\n\n<p style="color: rgb(14\, 16\, 26)\; background-image: none\; background-position: 0%\; background-size: auto\; background-repeat: repeat\; background-attachment: scroll\; background-origin: padding-box\; background-clip: border-box\; margin-top: 0pt\; margin-bottom: 0pt\;"><span data-preserver-spaces="true" style="background-image: none\; background-position: 0%\; background-size: auto\; background-repeat: repeat\; background-attachment: scroll\; background-origin: padding-box\; background-clip: border-box\; margin-top: 0pt\; margin-bottom: 0pt\;">In the Middle\, Somewhat Elevated</span></p>\n\n<p style="color: rgb(14\, 16\, 26)\; background-image: none\; background-position: 0%\; background-size: auto\; background-repeat: repeat\; background-attachment: scroll\; background-origin: padding-box\; background-clip: border-box\; margin-top: 0pt\; margin-bottom: 0pt\;"><span data-preserver-spaces="true" style="background-image: none\; background-position: 0%\; background-size: auto\; background-repeat: repeat\; background-attachment: scroll\; background-origin: padding-box\; background-clip: border-box\; margin-top: 0pt\; margin-bottom: 0pt\;">Choreography: William Forsythe</span></p>\n\n<p style="color: rgb(14\, 16\, 26)\; background-image: none\; background-position: 0%\; background-size: auto\; background-repeat: repeat\; background-attachment: scroll\; background-origin: padding-box\; background-clip: border-box\; margin-top: 0pt\; margin-bottom: 0pt\;"><span data-preserver-spaces="true" style="background-image: none\; background-position: 0%\; background-size: auto\; background-repeat: repeat\; background-attachment: scroll\; background-origin: padding-box\; background-clip: border-box\; margin-top: 0pt\; margin-bottom: 0pt\;">Music: Thom Willems</span></p>\n\n<p style="color: rgb(14\, 16\, 26)\; background-image: none\; background-position: 0%\; background-size: auto\; background-repeat: repeat\; background-attachment: scroll\; background-origin: padding-box\; background-clip: border-box\; margin-top: 0pt\; margin-bottom: 0pt\;">&nbsp\;</p>\n\n<p style="color: rgb(14\, 16\, 26)\; background-image: none\; background-position: 0%\; background-size: auto\; background-repeat: repeat\; background-attachment: scroll\; background-origin: padding-box\; background-clip: border-box\; margin-top: 0pt\; margin-bottom: 0pt\;"><span data-preserver-spaces="true" style="background-image: none\; background-position: 0%\; background-size: auto\; background-repeat: repeat\; background-attachment: scroll\; background-origin: padding-box\; background-clip: border-box\; margin-top: 0pt\; margin-bottom: 0pt\;">Guest Artist: <a href="https://www.irenerodriguezcompania.com" target="_blank">Irene Rodriguez</a></span></p>\n\n<p style="color: rgb(14\, 16\, 26)\; background-image: none\; background-position: 0%\; background-size: auto\; background-repeat: repeat\; background-attachment: scroll\; background-origin: padding-box\; background-clip: border-box\; margin-top: 0pt\; margin-bottom: 0pt\;"><span data-preserver-spaces="true" style="background-image: none\; background-position: 0%\; background-size: auto\; background-repeat: repeat\; background-attachment: scroll\; background-origin: padding-box\; background-clip: border-box\; margin-top: 0pt\; margin-bottom: 0pt\;">A Rose by any other Name</span></p>\n\n<p style="color: rgb(14\, 16\, 26)\; background-image: none\; background-position: 0%\; background-size: auto\; background-repeat: repeat\; background-attachment: scroll\; background-origin: padding-box\; background-clip: border-box\; margin-top: 0pt\; margin-bottom: 0pt\;"><span data-preserver-spaces="true" style="background-image: none\; background-position: 0%\; background-size: auto\; background-repeat: repeat\; background-attachment: scroll\; background-origin: padding-box\; background-clip: border-box\; margin-top: 0pt\; margin-bottom: 0pt\;">Choreography: </span><a href="https://www.irenerodriguezcompania.com" target="_blank">Irene Rodriguez</a></p>\n\n<p style="color: rgb(14\, 16\, 26)\; background-image: none\; background-position: 0%\; background-size: auto\; background-repeat: repeat\; background-attachment: scroll\; background-origin: padding-box\; background-clip: border-box\; margin-top: 0pt\; margin-bottom: 0pt\;"><span data-preserver-spaces="true" style="background-image: none\; background-position: 0%\; background-size: auto\; background-repeat: repeat\; background-attachment: scroll\; background-origin: padding-box\; background-clip: border-box\; margin-top: 0pt\; margin-bottom: 0pt\;">Music: Cristian Puig\, Damir Fuentes</span></p>\n\n<p style="color: rgb(14\, 16\, 26)\; background-image: none\; background-position: 0%\; background-size: auto\; background-repeat: repeat\; background-attachment: scroll\; background-origin: padding-box\; background-clip: border-box\; margin-top: 0pt\; margin-bottom: 0pt\;">&nbsp\;</p>\n\n<p style="color: rgb(14\, 16\, 26)\; background-image: none\; background-position: 0%\; background-size: auto\; background-repeat: repeat\; background-attachment: scroll\; background-origin: padding-box\; background-clip: border-box\; margin-top: 0pt\; margin-bottom: 0pt\;"><span data-preserver-spaces="true" style="background-image: none\; background-position: 0%\; background-size: auto\; background-repeat: repeat\; background-attachment: scroll\; background-origin: padding-box\; background-clip: border-box\; margin-top: 0pt\; margin-bottom: 0pt\;">__________________________________________</span></p>\n\n<p style="color: rgb(14\, 16\, 26)\; background-image: none\; background-position: 0%\; background-size: auto\; background-repeat: repeat\; background-attachment: scroll\; background-origin: padding-box\; background-clip: border-box\; margin-top: 0pt\; margin-bottom: 0pt\;">&nbsp\;</p>\n\n<p style="color: rgb(14\, 16\, 26)\; background-image: none\; background-position: 0%\; background-size: auto\; background-repeat: repeat\; background-attachment: scroll\; background-origin: padding-box\; background-clip: border-box\; margin-top: 0pt\; margin-bottom: 0pt\;">&nbsp\;</p>\n\n<p style="color: rgb(14\, 16\, 26)\; background-image: none\; background-position: 0%\; background-size: auto\; background-repeat: repeat\; background-attachment: scroll\; background-origin: padding-box\; background-clip: border-box\; margin-top: 0pt\; margin-bottom: 0pt\;"><strong style="background-image: none\; background-position: 0%\; background-size: auto\; background-repeat: repeat\; background-attachment: scroll\; background-origin: padding-box\; background-clip: border-box\; margin-top: 0pt\; margin-bottom: 0pt\;">BOLD MOVES FESTIVAL: PROGRAM 2</strong></p>\n\n<p style="color: rgb(14\, 16\, 26)\; background-image: none\; background-position: 0%\; background-size: auto\; background-repeat: repeat\; background-attachment: scroll\; background-origin: padding-box\; background-clip: border-box\; margin-top: 0pt\; margin-bottom: 0pt\;"><span data-preserver-spaces="true" style="background-image: none\; background-position: 0%\; background-size: auto\; background-repeat: repeat\; background-attachment: scroll\; background-origin: padding-box\; background-clip: border-box\; margin-top: 0pt\; margin-bottom: 0pt\;">Ibsen&#39\;s House</span></p>\n\n<p style="color: rgb(14\, 16\, 26)\; background-image: none\; background-position: 0%\; background-size: auto\; background-repeat: repeat\; background-attachment: scroll\; background-origin: padding-box\; background-clip: border-box\; margin-top: 0pt\; margin-bottom: 0pt\;"><span data-preserver-spaces="true" style="background-image: none\; background-position: 0%\; background-size: auto\; background-repeat: repeat\; background-attachment: scroll\; background-origin: padding-box\; background-clip: border-box\; margin-top: 0pt\; margin-bottom: 0pt\;">Choreography: Val Caniparoli</span></p>\n\n<p style="color: rgb(14\, 16\, 26)\; background-image: none\; background-position: 0%\; background-size: auto\; background-repeat: repeat\; background-attachment: scroll\; background-origin: padding-box\; background-clip: border-box\; margin-top: 0pt\; margin-bottom: 0pt\;"><span data-preserver-spaces="true" style="background-image: none\; background-position: 0%\; background-size: auto\; background-repeat: repeat\; background-attachment: scroll\; background-origin: padding-box\; background-clip: border-box\; margin-top: 0pt\; margin-bottom: 0pt\;">Music: Quintet in A Major\, Op. 81 for Piano\, Two Violins\, Viola\, and Cello\, Anton&iacute\;n Dvo&#345\;&aacute\;k</span></p>\n\n<p style="color: rgb(14\, 16\, 26)\; background-image: none\; background-position: 0%\; background-size: auto\; background-repeat: repeat\; background-attachment: scroll\; background-origin: padding-box\; background-clip: border-box\; margin-top: 0pt\; margin-bottom: 0pt\;">&nbsp\;</p>\n\n<p style="color: rgb(14\, 16\, 26)\; background-image: none\; background-position: 0%\; background-size: auto\; background-repeat: repeat\; background-attachment: scroll\; background-origin: padding-box\; background-clip: border-box\; margin-top: 0pt\; margin-bottom: 0pt\;"><span data-preserver-spaces="true" style="background-image: none\; background-position: 0%\; background-size: auto\; background-repeat: repeat\; background-attachment: scroll\; background-origin: padding-box\; background-clip: border-box\; margin-top: 0pt\; margin-bottom: 0pt\;">Written and Forgotten</span></p>\n\n<p style="color: rgb(14\, 16\, 26)\; background-image: none\; background-position: 0%\; background-size: auto\; background-repeat: repeat\; background-attachment: scroll\; background-origin: padding-box\; background-clip: border-box\; margin-top: 0pt\; margin-bottom: 0pt\;"><span data-preserver-spaces="true" style="background-image: none\; background-position: 0%\; background-size: auto\; background-repeat: repeat\; background-attachment: scroll\; background-origin: padding-box\; background-clip: border-box\; margin-top: 0pt\; margin-bottom: 0pt\;">Choreography: <a href="https://youtu.be/MS9luAm3XIU" target="_blank">Anabelle Lopez Ochoa</a></span></p>\n\n<p style="color: rgb(14\, 16\, 26)\; background-image: none\; background-position: 0%\; background-size: auto\; background-repeat: repeat\; background-attachment: scroll\; background-origin: padding-box\; background-clip: border-box\; margin-top: 0pt\; margin-bottom: 0pt\;"><span data-preserver-spaces="true" style="background-image: none\; background-position: 0%\; background-size: auto\; background-repeat: repeat\; background-attachment: scroll\; background-origin: padding-box\; background-clip: border-box\; margin-top: 0pt\; margin-bottom: 0pt\;">Music: Aris Dimitriadis\, Rene Aubry\, Lisa Gerrard\, Manuel Wandji\, Madeleine Peyroux</span></p>\n\n<p style="color: rgb(14\, 16\, 26)\; background-image: none\; background-position: 0%\; background-size: auto\; background-repeat: repeat\; background-attachment: scroll\; background-origin: padding-box\; background-clip: border-box\; margin-top: 0pt\; margin-bottom: 0pt\;">&nbsp\;</p>\n\n<p style="color: rgb(14\, 16\, 26)\; background-image: none\; background-position: 0%\; background-size: auto\; background-repeat: repeat\; background-attachment: scroll\; background-origin: padding-box\; background-clip: border-box\; margin-top: 0pt\; margin-bottom: 0pt\;"><span data-preserver-spaces="true" style="background-image: none\; background-position: 0%\; background-size: auto\; background-repeat: repeat\; background-attachment: scroll\; background-origin: padding-box\; background-clip: border-box\; margin-top: 0pt\; margin-bottom: 0pt\;">Fa&ccedil\;ades</span></p>\n\n<p style="color: rgb(14\, 16\, 26)\; background-image: none\; background-position: 0%\; background-size: auto\; background-repeat: repeat\; background-attachment: scroll\; background-origin: padding-box\; background-clip: border-box\; margin-top: 0pt\; margin-bottom: 0pt\;"><span data-preserver-spaces="true" style="background-image: none\; background-position: 0%\; background-size: auto\; background-repeat: repeat\; background-attachment: scroll\; background-origin: padding-box\; background-clip: border-box\; margin-top: 0pt\; margin-bottom: 0pt\;">Choreography: Garrett Smith</span></p>\n\n<p style="color: rgb(14\, 16\, 26)\; background-image: none\; background-position: 0%\; background-size: auto\; background-repeat: repeat\; background-attachment: scroll\; background-origin: padding-box\; background-clip: border-box\; margin-top: 0pt\; margin-bottom: 0pt\;"><span data-preserver-spaces="true" style="background-image: none\; background-position: 0%\; background-size: auto\; background-repeat: repeat\; background-attachment: scroll\; background-origin: padding-box\; background-clip: border-box\; margin-top: 0pt\; margin-bottom: 0pt\;">Music: Philip Glass\, George F. Handel\, Antonio Vivaldi</span></p>\n
LOCATION:Aronoff Center for the Arts Procter & Gamble Hall 650 Walnut Street Cincinnati\, Ohio 45202
UID:e.818.18820
SEQUENCE:3
DTSTAMP:20260421T074345Z
URL:https://business.hispanicchambercincinnati.com/events/details/cincinnati-ballet-bold-moves-festival-06-10-2023-18820
END:VEVENT

END:VCALENDAR
