BEGIN:VCALENDAR
VERSION:2.0
PRODID:-//ChamberMaster//Event Calendar 2.0//EN
METHOD:PUBLISH
X-PUBLISHED-TTL:P3D
REFRESH-INTERVAL:P3D
CALSCALE:GREGORIAN
BEGIN:VEVENT
DTSTART:20240913T220000Z
DTEND:20240913T140000Z
X-MICROSOFT-CDO-ALLDAYEVENT:FALSE
SUMMARY:Cincinnati Compass Presents Cincinnati Rhythm
DESCRIPTION:Let's Celebrate!\n\n\n\n\n\nCincinnati Rhythm is our highly anticipated\, multicultural annual event.\n\n\n\n\n\nThere's something for everyone who attends including plenty of food\, music\, performances\, and special awards. Every year we hold this special event for the immigrants and refugees who call our region home. The event is a celebration and an opportunity to connect with friends\, old and new.\n\n \n\n\n\nInternational Food\n\nEnjoy local food with an international flavor. Food-based entrepreneurs from immigrant and refugee communities will serve delicious meals from all over the world. Feel at home with a traditional dish from your country or try something completely new.\n\n\n\n\n\nEnjoy food from:\n\n\n	Jay's Nyam & Jam\n	Jomun\n	Lotus Street Food\n	Luchy's Kitchen\n	Sabor Alaniz\n	Yee Mama\n\n\n\n\n\n\nMusic + Performance\n\nThe sights and sounds of an international stage make our celebration truly unique. Come see traditional dance\, listen to lively music\, and watch special performances. Cincinnati Rhythm is always an unforgettable experience.\n\n\n\n\n\nHear music and watch performances from:\n\n\n	Ijo Ugo\n	Son del Caribe\n	Chalom The Thai Dancer\n	Cincinnati Dayton Taiko\n	DJ Shemizo
X-ALT-DESC;FMTTYPE=text/html:<div data-element_type="widget" data-id="4f496ff" data-widget_type="heading.default">\n<div>\n<p>Let&rsquo\;s Celebrate!</p>\n</div>\n</div>\n\n<div data-element_type="widget" data-id="db43c03" data-widget_type="heading.default">\n<div>\n<p>Cincinnati Rhythm is our highly anticipated\, multicultural annual event.</p>\n</div>\n</div>\n\n<div data-element_type="widget" data-id="ea8ae9d" data-widget_type="text-editor.default">\n<div>\n<p>There&rsquo\;s something for everyone who attends including plenty of food\, music\, performances\, and special awards. Every year we hold this special event for the immigrants and refugees who call our region home. The event is a celebration and an opportunity to connect with friends\, old and new.<br />\n&nbsp\;</p>\n\n<div data-element_type="widget" data-id="22841ac" data-widget_type="heading.default">\n<div>\n<p>International Food<br />\nEnjoy local food with an international flavor. Food-based entrepreneurs from immigrant and refugee communities will serve delicious meals from all over the world. Feel at home with a traditional dish from your country or try something completely new.</p>\n</div>\n</div>\n\n<div data-element_type="widget" data-id="c0cb9a0" data-widget_type="text-editor.default">\n<div>\n<p>Enjoy food from:</p>\n\n<ul>\n	<li><a href="https://www.facebook.com/people/Jays-Nyam-Jam/100093573351609/?_rdr">Jay&rsquo\;s Nyam &amp\; Jam</a></li>\n	<li><a href="https://www.facebook.com/JomunLLC/">Jomun</a></li>\n	<li><a href="https://www.facebook.com/people/Lotus-Street-Food/100091806618626/" rel="noopener" target="_blank">Lotus Street Food</a></li>\n	<li><a href="https://luchys-kitchen.com/">Luchy&rsquo\;s Kitchen</a></li>\n	<li><a href="https://www.facebook.com/saboralaniz/">Sabor Alaniz</a></li>\n	<li><a href="https://www.yeemama.com/" rel="noopener" target="_blank">Yee Mama</a></li>\n</ul>\n\n<div data-element_type="widget" data-id="f23a807" data-widget_type="heading.default">\n<div>\n<p><br />\nMusic + Performance<br />\nThe sights and sounds of an international stage make our celebration truly unique. Come see traditional dance\, listen to lively music\, and watch special performances. Cincinnati Rhythm is always an unforgettable experience.</p>\n</div>\n</div>\n\n<div data-element_type="widget" data-id="15e7f75" data-widget_type="text-editor.default">\n<div>\n<p>Hear music and watch performances from:</p>\n\n<ul>\n	<li><a href="https://www.facebook.com/profile.php?id=100068086277442">Ijo Ugo</a></li>\n	<li><a href="http://www.sondelcaribecincinnati.com/">Son del Caribe</a></li>\n	<li><a href="https://www.facebook.com/people/Chalom-The-Thai-Dancer/100083130950458/">Chalom The Thai Dancer</a></li>\n	<li><a href="mailto:helen@helenrindsberg.com">Cincinnati Dayton Taiko</a></li>\n	<li><a href="https://www.instagram.com/dj_shemizo/">DJ Shemizo</a></li>\n</ul>\n</div>\n</div>\n</div>\n</div>\n</div>\n</div>\n
LOCATION:Cincinnati Museum Center
UID:e.818.20136
SEQUENCE:3
DTSTAMP:20260420T161645Z
URL:https://business.hispanicchambercincinnati.com/events/details/cincinnati-compass-presents-cincinnati-rhythm-20136
END:VEVENT

END:VCALENDAR
