BEGIN:VCALENDAR
VERSION:2.0
PRODID:-//ChamberMaster//Event Calendar 2.0//EN
METHOD:PUBLISH
X-PUBLISHED-TTL:P3D
REFRESH-INTERVAL:P3D
CALSCALE:GREGORIAN
BEGIN:VEVENT
DTSTART;VALUE=DATE:20230506
DTEND;VALUE=DATE:20230507
TRANSP:TRANSPARENT
X-MICROSOFT-CDO-ALLDAYEVENT:TRUE
SUMMARY:Cincinnati Public Schools International Jazz Festival
DESCRIPTION:Jazz-loving Cincinnatians are invited to the 3rd International Jazz Festival\, hosted by Activities Beyond the Classroom (ABC).\n\nThe festival will feature over 100 student musicians from the Cincinnati Public Schools Jazz Academy performing with internationally famous jazz saxophonist Joan Chamorro from Barcelona Spain\, as well as many of the jazz students under his tutelage. Also featured on the program will be some of the finest jazz artists from the tri-state area. \n\nDate: Saturday\, May 6th\n\nTime: 7:00 PM\n\nLocation: The Aronoff Center for the Arts (650 Walnut Street)\n\nCost: FREE (but tickets are required for entry. Tickets will be available in the P&G Hall lobby starting at 6:00 PM)\n\n\n\n\n\n\n\n\n\n\n\n\n\n\n\n\n\n\n\nSpecial performances by:\n\n\n	CPS Elementary Jazz Academy Orchestras\n	CPS Junior High School Jazz Academy Combo\n	CPS High School Jazz Academy Orchestra\n	CPS Jazz Academy Faculty Ensemble\n\n\n\n\n\n\n\n\n\n\n\n\n\n\nTri-State professional jazz artists include:                        \n\n\n	To Be Announced
X-ALT-DESC;FMTTYPE=text/html:<section data-element_type="section" data-id="cbb5bf4">\n<div>\n<div>\n<div data-element_type="column" data-id="5e15fbf">\n<div>\n<div>\n<div data-element_type="widget" data-id="4a2d54c" data-widget_type="text-editor.default">\n<div>\n<div>\n<p>Jazz-loving Cincinnatians are invited to the 3rd&nbsp\;International Jazz Festival\, hosted by Activities Beyond the Classroom (ABC).</p>\n\n<p>The festival will feature over 100 student musicians from the Cincinnati Public Schools Jazz Academy performing with internationally famous jazz saxophonist Joan Chamorro from Barcelona Spain\, as well as many of the jazz students under his tutelage. Also featured on the program will be some of the finest jazz artists from the tri-state area.&nbsp\;</p>\n\n<p>Date:&nbsp\;Saturday\, May 6th</p>\n\n<p>Time:&nbsp\;7:00 PM</p>\n\n<p>Location:&nbsp\;The Aronoff Center for the Arts (650 Walnut Street)</p>\n\n<p>Cost: FREE&nbsp\;(but tickets are required for entry. Tickets will be available in the P&amp\;G Hall lobby starting at 6:00 PM)</p>\n</div>\n</div>\n</div>\n</div>\n</div>\n</div>\n</div>\n</div>\n</section>\n\n<section data-element_type="section" data-id="add4222">\n<div>\n<div>\n<div data-element_type="column" data-id="88d80fa">\n<div>\n<div>\n<div data-element_type="widget" data-id="449e12a" data-widget_type="text-editor.default">\n<div>\n<div>\n<p>Special performances by:</p>\n\n<ul>\n	<li>CPS Elementary Jazz Academy Orchestras</li>\n	<li>CPS Junior High School Jazz Academy Combo</li>\n	<li>CPS High School Jazz Academy Orchestra</li>\n	<li>CPS Jazz Academy Faculty Ensemble</li>\n</ul>\n</div>\n</div>\n</div>\n</div>\n</div>\n</div>\n\n<div data-element_type="column" data-id="1e4d6c7">\n<div>\n<div>\n<div data-element_type="widget" data-id="b6be02d" data-widget_type="text-editor.default">\n<div>\n<div>\n<p>Tri-State professional jazz artists include:&nbsp\; &nbsp\;&nbsp\;&nbsp\; &nbsp\; &nbsp\; &nbsp\; &nbsp\; &nbsp\; &nbsp\; &nbsp\; &nbsp\; &nbsp\;&nbsp\;</p>\n\n<ul>\n	<li>To Be Announced</li>\n</ul>\n</div>\n</div>\n</div>\n</div>\n</div>\n</div>\n</div>\n</div>\n</section>\n
LOCATION:The Aronoff Center for the Arts 650 Walnut Street
UID:e.818.18771
SEQUENCE:3
DTSTAMP:20260421T092541Z
URL:https://business.hispanicchambercincinnati.com/events/details/cincinnati-public-schools-international-jazz-festival-18771
END:VEVENT

END:VCALENDAR
