BEGIN:VCALENDAR
VERSION:2.0
PRODID:-//ChamberMaster//Event Calendar 2.0//EN
METHOD:PUBLISH
X-PUBLISHED-TTL:P3D
REFRESH-INTERVAL:P3D
CALSCALE:GREGORIAN
BEGIN:VEVENT
DTSTART:20230608T163000Z
DTEND:20230608T193000Z
X-MICROSOFT-CDO-ALLDAYEVENT:FALSE
SUMMARY:Cincinnati Reds vs LA Dodgers
DESCRIPTION:
X-ALT-DESC;FMTTYPE=text/html:
LOCATION:Great American Ballpark 100 Main St\, Cincinnati\, OH 45202
UID:e.818.18858
SEQUENCE:3
DTSTAMP:20260421T074019Z
URL:https://business.hispanicchambercincinnati.com/events/details/cincinnati-reds-vs-la-dodgers-18858
END:VEVENT

END:VCALENDAR
