BEGIN:VCALENDAR
VERSION:2.0
PRODID:-//ChamberMaster//Event Calendar 2.0//EN
METHOD:PUBLISH
X-PUBLISHED-TTL:P3D
REFRESH-INTERVAL:P3D
CALSCALE:GREGORIAN
BEGIN:VEVENT
DTSTART:20220817T163500Z
DTEND:20220817T200000Z
X-MICROSOFT-CDO-ALLDAYEVENT:FALSE
SUMMARY:Cincinnati Reds vs Philadelphia Phillies
DESCRIPTION:
X-ALT-DESC;FMTTYPE=text/html:
LOCATION:Great American Ballpark 100 Main St\, Cincinnati\, OH 45202
UID:e.818.17986
SEQUENCE:3
DTSTAMP:20260424T125854Z
URL:https://business.hispanicchambercincinnati.com/events/details/cincinnati-reds-vs-philadelphia-phillies-08-17-2022-17986
END:VEVENT

END:VCALENDAR
