BEGIN:VCALENDAR
VERSION:2.0
PRODID:-//ChamberMaster//Event Calendar 2.0//EN
METHOD:PUBLISH
X-PUBLISHED-TTL:P3D
REFRESH-INTERVAL:P3D
CALSCALE:GREGORIAN
BEGIN:VEVENT
DTSTART:20220831T224000Z
DTEND:20220901T020000Z
X-MICROSOFT-CDO-ALLDAYEVENT:FALSE
SUMMARY:Cincinnati Reds vs St. Louis Cardinals
DESCRIPTION:
X-ALT-DESC;FMTTYPE=text/html:
LOCATION:Great American Ballpark 100 Main St\, Cincinnati\, OH 45202
UID:e.818.17990
SEQUENCE:3
DTSTAMP:20260424T125758Z
URL:https://business.hispanicchambercincinnati.com/events/details/cincinnati-reds-vs-st-louis-cardinals-17990
END:VEVENT

END:VCALENDAR
