BEGIN:VCALENDAR
VERSION:2.0
PRODID:-//ChamberMaster//Event Calendar 2.0//EN
METHOD:PUBLISH
X-PUBLISHED-TTL:P3D
REFRESH-INTERVAL:P3D
CALSCALE:GREGORIAN
BEGIN:VEVENT
DTSTART:20230610T123000Z
DTEND:20230610T220000Z
X-MICROSOFT-CDO-ALLDAYEVENT:FALSE
SUMMARY:Cincinnati Upstander Weekend
DESCRIPTION:Join us for a weekend full of events that will inspire you to make your own mark in the community. Cincinnati Upstander Weekend celebrates and uplifts the changemakers in our community.\n\nOrganized by Cincinnati Museum Center and the Nancy & David Wolf Holocaust & Humanity Center. \n\nSaturday\, June 10\n\n\n	Fleet Feet Upstander 5K at 8:30 a.m.\n	Pick-up pickleball and free lessons\n	FC Cincinnati giveaways and activations\n	Outdoor science experiments\n	Breakfast foods\n	Music from Cincinnati Music Accelerator\n	Volunteer expo with 30+ local non-profits\n\n\n\n\nUPSTANDER 5K\n\nJUNE 10\, 2023\, 8:30 A.M.\n\nCincinnati's community of upstanders takes over historic Union Terminal for our Upstander 5K\, Family Day & Upstander Volunteer Expo. Kick off your morning with the Upstander 5K\, which takes runners and walkers on a scenic route underneath historic Union Terminal and throughout the West End. Top finishers receive a free T-shirt and other swag. Participants will also enjoy live music\, family activities\, breakfast\, giveaways\, FC Cincinnati activations and a pickleball tournament outside of Union Terminal.\n\n\n\nFAMILY DAY & VOLUNTEER EXPO\n\nJUNE 10\, 2023\, 10 A.M. TO 5 P.M.\n\nAfter you finish your morning outside\, explore upstander activities and experiences throughout the Children's Museum\, Cincinnati History Museum\, the Museum of Natural History and Science\, and the Nancy & David Wolf Holocaust & Humanity Center. Browse our Upstander Volunteer Expo\, where dozens of non-profit and mission-driven organizations will be available in the Rotunda to share volunteer opportunities and information with museum goers throughout the day. When you register for any Cincinnati Upstander Weekend event\, you receive free admission to all museums.\n\n\n\nUPSTANDER AWARDS\n\nJUNE 11\, 2023 6 P.M.\n\nThe Upstander Awards recognize individuals in the region who use their character strengths to make a difference in the community. Enjoy a gala-style event in historic Union Terminal's breathtaking rotunda featuring a three-course meal\, live music\, art experiences\, and a moving awards ceremony celebrating Cincinnati's best and brightest upstanders. Katie Couric\, Founder of Katie Couric Media\, will serve as this year's Celebrity Master of Ceremonies.\n\n\n\n\n\n \n\n\n\n\n\nUpstander Family Day tickets
X-ALT-DESC;FMTTYPE=text/html:<div id="m_-2057211545594838654hs_cos_wrapper_module_16714763425661">\n<div id="m_-2057211545594838654hs_cos_wrapper_module_16714763425661_">\n<p>Join us for a weekend full of events that will inspire you to make your own mark in the community.&nbsp\;<a data-saferedirecturl="https://www.google.com/url?q=https://d2BBH904.na1.hubspotlinks.com/Ctc/L0%2B113/d2BBH904/VWcJ9x2RQ2g8W9gB-lg8J95NYW4Rs6st4-nQcWN3Bm-8p3q90JV1-WJV7CgD9BVTQ4pH6r2JQ4W6JFsnh7W93wZW7s8xFR6T_pk5W22k4h88NPZKLW8_XRxg2LYbhSW4LHtcq2bkL7kW2FTTZZ823rLWW1_bT703_FfrgW2073fF2dJdGBW2QXmty4c_ZYHVWKl4Y1GNvXFW3fBsng8HrSLbVbHyls1KHVLQVt_Zjx1dyJtQW6tlJXx1KwVrvW5X0BW05Dfm5XW4gbwZ943hKmgW1tDCx31v9l16W6VfLjx4VQBRQW5rhj_-3WBwr0N5l5bCVc0-tkW2TJqWV71X-pbW4VZGJc7kyNsDW1z4Jkv1pKKS-W6nk8Mv3wQ4n9W8DWBsp56KL-2W1ty9gd19W6tdW4T9p6s5S3mrf3nt31&amp\;source=gmail&amp\;ust=1684502670175000&amp\;usg=AOvVaw2h6STXg8YhmqJHcCqg-ZT1" href="https://d2bbh904.na1.hubspotlinks.com/Ctc/L0+113/d2BBH904/VWcJ9x2RQ2g8W9gB-lg8J95NYW4Rs6st4-nQcWN3Bm-8p3q90JV1-WJV7CgD9BVTQ4pH6r2JQ4W6JFsnh7W93wZW7s8xFR6T_pk5W22k4h88NPZKLW8_XRxg2LYbhSW4LHtcq2bkL7kW2FTTZZ823rLWW1_bT703_FfrgW2073fF2dJdGBW2QXmty4c_ZYHVWKl4Y1GNvXFW3fBsng8HrSLbVbHyls1KHVLQVt_Zjx1dyJtQW6tlJXx1KwVrvW5X0BW05Dfm5XW4gbwZ943hKmgW1tDCx31v9l16W6VfLjx4VQBRQW5rhj_-3WBwr0N5l5bCVc0-tkW2TJqWV71X-pbW4VZGJc7kyNsDW1z4Jkv1pKKS-W6nk8Mv3wQ4n9W8DWBsp56KL-2W1ty9gd19W6tdW4T9p6s5S3mrf3nt31" rel="noopener" target="_blank">Cincinnati Upstander Weekend</a>&nbsp\;celebrates and uplifts the changemakers in our community.<br />\nOrganized by Cincinnati Museum Center and the Nancy &amp\; David Wolf Holocaust &amp\; Humanity Center.&nbsp\;</p>\n\n<p>Saturday\, June 10</p>\n\n<ul>\n	<li>Fleet Feet&nbsp\;<a data-saferedirecturl="https://www.google.com/url?q=https://d2BBH904.na1.hubspotlinks.com/Ctc/L0%2B113/d2BBH904/VWcJ9x2RQ2g8W9gB-lg8J95NYW4Rs6st4-nQcWN3Bm-853q90pV1-WJV7CgKyZW7HYDlj3hctz-W3HyC1q8jTbc0W1NNjLp4Z3NYkW14WLyW1Dn202VLCcbB21vWPmW3Wgky-4-3V98W31w2BJ2p4cXrW8BYNlx7xlxyGMGJnbyKGnCQW3hJY6x7Yr5gxN2yDZZm_9Vn-W4FWTyc4pd1JRW3QVqtQ6lmb_9W7X5p231xL_NCW5RDdhJ4jrJ07W349PTK3h0cs9W7fLFZ87ZPrN-W92L36m6Rjb5WW6NVdhw1KVCnZN6zp5dmnMFmmW8M7D9k6WBRGzW7jVQjP3p-TN5VZzvmr3rzC_pW4p4ywq44VnJBW6by2pr7f76tBW4TGlzR3R2Qq636q61&amp\;source=gmail&amp\;ust=1684502670175000&amp\;usg=AOvVaw1KJPkJ0Q0TDTRP9x-1nGpE" href="https://d2bbh904.na1.hubspotlinks.com/Ctc/L0+113/d2BBH904/VWcJ9x2RQ2g8W9gB-lg8J95NYW4Rs6st4-nQcWN3Bm-853q90pV1-WJV7CgKyZW7HYDlj3hctz-W3HyC1q8jTbc0W1NNjLp4Z3NYkW14WLyW1Dn202VLCcbB21vWPmW3Wgky-4-3V98W31w2BJ2p4cXrW8BYNlx7xlxyGMGJnbyKGnCQW3hJY6x7Yr5gxN2yDZZm_9Vn-W4FWTyc4pd1JRW3QVqtQ6lmb_9W7X5p231xL_NCW5RDdhJ4jrJ07W349PTK3h0cs9W7fLFZ87ZPrN-W92L36m6Rjb5WW6NVdhw1KVCnZN6zp5dmnMFmmW8M7D9k6WBRGzW7jVQjP3p-TN5VZzvmr3rzC_pW4p4ywq44VnJBW6by2pr7f76tBW4TGlzR3R2Qq636q61" rel="noopener" target="_blank">Upstander 5K</a>&nbsp\;at 8:30 a.m.</li>\n	<li>Pick-up pickleball and free lessons</li>\n	<li>FC Cincinnati giveaways and activations</li>\n	<li>Outdoor science experiments</li>\n	<li>Breakfast foods</li>\n	<li>Music from Cincinnati Music Accelerator</li>\n	<li>Volunteer expo with 30+ local non-profits</li>\n</ul>\n\n<div data-element_type="widget" data-id="6779a79" data-widget_type="heading.default">\n<div>\n<p><u><strong>UPSTANDER 5K</strong></u><br />\nJUNE 10\, 2023\, 8:30 A.M.<br />\nCincinnati&rsquo\;s community of upstanders takes over historic Union Terminal for our Upstander 5K\, Family Day &amp\; Upstander Volunteer Expo. Kick off your morning with the Upstander 5K\, which takes runners and walkers on a scenic route underneath historic Union Terminal and throughout the West End. Top finishers receive a free T-shirt and other swag. Participants will also enjoy live music\, family activities\, breakfast\, giveaways\, FC Cincinnati activations and a pickleball tournament outside of Union Terminal.</p>\n\n<div data-element_type="widget" data-id="ff273b4" data-widget_type="heading.default">\n<div>\n<p><u><strong>FAMILY DAY &amp\; VOLUNTEER EXPO</strong></u><br />\nJUNE 10\, 2023\, 10 A.M. TO 5 P.M.<br />\nAfter you finish your morning outside\, explore upstander activities and experiences throughout the Children&rsquo\;s Museum\, Cincinnati History Museum\, the Museum of Natural History and Science\, and the Nancy &amp\; David Wolf Holocaust &amp\; Humanity Center. Browse our Upstander Volunteer Expo\, where dozens of non-profit and mission-driven organizations will be available in the Rotunda to share volunteer opportunities and information with museum goers throughout the day.&nbsp\;When you register for any Cincinnati Upstander Weekend event\, you receive free admission to all museums.<br />\n<br />\n<u><strong>UPSTANDER AWARDS</strong></u><br />\nJUNE 11\, 2023 6 P.M.<br />\nThe Upstander Awards recognize individuals in the region who use their character strengths to make a difference in the community. Enjoy a gala-style event in historic Union Terminal&rsquo\;s breathtaking rotunda featuring a three-course meal\, live music\, art experiences\, and a moving awards ceremony celebrating Cincinnati&rsquo\;s best and brightest upstanders. Katie Couric\, Founder of Katie Couric Media\, will serve as this year&rsquo\;s Celebrity Master of Ceremonies.</p>\n</div>\n</div>\n\n<div data-element_type="widget" data-id="0278a9e" data-widget_type="heading.default">\n<div>\n<p>&nbsp\;</p>\n</div>\n</div>\n</div>\n</div>\n\n<p><a data-saferedirecturl="https://www.google.com/url?q=https://d2BBH904.na1.hubspotlinks.com/Ctc/L0%2B113/d2BBH904/VWcJ9x2RQ2g8W9gB-lg8J95NYW4Rs6st4-nQcWN3Bm-8J3q90_V1-WJV7CgRTQW71pqlP5tQz1zV9qSGk85fnG8W8RsW7n28SpkmW5FfHVf8jn_1vW3THRNm2SkrwrW5qYs4g48V_TjN5V_hxmX44JqN3kmZz874YRhW6lxQ434g2NTvW4pHDMg3Q7LBYW4jCPzR8LY_5xW2vcG7g77PxMVW1R0MsW5jrcJCW6471TS8YX_pdW8Xy5fY7tqXnkW86MyTP7TznmwW8DCxYc2gByZtW6cw9gH3GlCmDN1stxpSnsbNWW7JqZZ41C7bkCW76NNzl3N8Z67W4yNTCb8czVvpW5gxQxf5nrCHzN9d25SKW6dMrW7THdXh8m61prN70WhSrQqXMSW5W_WM128cJnkW3wBN264pFVygW5KyW4W4sCvhTW8hJdQd5XNnH_342c1&amp\;source=gmail&amp\;ust=1684502670175000&amp\;usg=AOvVaw3vBDIHPBBHmw3CRJjwK84K" href="https://d2bbh904.na1.hubspotlinks.com/Ctc/L0+113/d2BBH904/VWcJ9x2RQ2g8W9gB-lg8J95NYW4Rs6st4-nQcWN3Bm-8J3q90_V1-WJV7CgRTQW71pqlP5tQz1zV9qSGk85fnG8W8RsW7n28SpkmW5FfHVf8jn_1vW3THRNm2SkrwrW5qYs4g48V_TjN5V_hxmX44JqN3kmZz874YRhW6lxQ434g2NTvW4pHDMg3Q7LBYW4jCPzR8LY_5xW2vcG7g77PxMVW1R0MsW5jrcJCW6471TS8YX_pdW8Xy5fY7tqXnkW86MyTP7TznmwW8DCxYc2gByZtW6cw9gH3GlCmDN1stxpSnsbNWW7JqZZ41C7bkCW76NNzl3N8Z67W4yNTCb8czVvpW5gxQxf5nrCHzN9d25SKW6dMrW7THdXh8m61prN70WhSrQqXMSW5W_WM128cJnkW3wBN264pFVygW5KyW4W4sCvhTW8hJdQd5XNnH_342c1" target="_blank">Upstander Family Day tickets</a></p>\n</div>\n</div>\n
LOCATION:Cincinnati Museum Center 1301 Western Avenue Cincinnati\, OH 45203
UID:e.818.18841
SEQUENCE:3
DTSTAMP:20260421T073908Z
URL:https://business.hispanicchambercincinnati.com/events/details/cincinnati-upstander-weekend-18841
END:VEVENT

END:VCALENDAR
