BEGIN:VCALENDAR
VERSION:2.0
PRODID:-//ChamberMaster//Event Calendar 2.0//EN
METHOD:PUBLISH
X-PUBLISHED-TTL:P3D
REFRESH-INTERVAL:P3D
CALSCALE:GREGORIAN
BEGIN:VEVENT
DTSTART:20221005T213000Z
DTEND:20221005T233000Z
X-MICROSOFT-CDO-ALLDAYEVENT:FALSE
SUMMARY:Cincy Chat: Creating Community Through BLINK
DESCRIPTION:Join us as we hear from Justin Brookhart\, Executive Director of BLINK\, and Destinee Thomas\, Co-Founder of Cincy Nice\, about the importance and impact of bringing young professionals\, artists\, and BIPOC communities together through events like BLINK   the nation's largest free public art event.\n\nHear from Justin and Destinee first-hand on new experiences coming to BLINK\, how BLINK's impact goes well beyond 4 days\, and the ways BLINK helps create community and foster collaboration. DJ Monet will be moderating the event.\n\nDon't forget to stop by the official BLINK store\, Limelight Marketplace\, located at 1511 Vine St (just a few doors down from Cinema OTR). We will be raffling off a BLINK hat\, t-shirt\, and sweatshirt to 3 attendees!\n\nLights bite will be provided. Cash bar.
X-ALT-DESC;FMTTYPE=text/html:<p>Join us as we hear from&nbsp\;Justin Brookhart\, Executive Director of BLINK\, and&nbsp\;Destinee Thomas\, Co-Founder of Cincy Nice\, about the importance and impact of bringing young professionals\, artists\, and BIPOC communities together through events like BLINK &ndash\; the nation&#39\;s largest free public art event.</p>\n\n<p>Hear from Justin and Destinee first-hand on new experiences coming to BLINK\, how BLINK&rsquo\;s impact goes well beyond 4 days\, and the ways BLINK helps create community and foster collaboration.&nbsp\;DJ Monet&nbsp\;will be moderating the event.</p>\n\n<p>Don&#39\;t forget to stop by the official BLINK store\, Limelight Marketplace\, located at 1511 Vine St (just a few doors down from Cinema OTR).&nbsp\;We will be raffling off a BLINK hat\, t-shirt\, and sweatshirt to 3 attendees!</p>\n\n<p>Lights bite will be provided. Cash bar.</p>\n
LOCATION:Limelight Marketplace\, located at 1511 Vine St (just a few doors down from Cinema OTR)
UID:e.818.18198
SEQUENCE:3
DTSTAMP:20260421T233929Z
URL:https://business.hispanicchambercincinnati.com/events/details/cincy-chat-creating-community-through-blink-18198
END:VEVENT

END:VCALENDAR
