BEGIN:VCALENDAR
VERSION:2.0
PRODID:-//ChamberMaster//Event Calendar 2.0//EN
METHOD:PUBLISH
X-PUBLISHED-TTL:P3D
REFRESH-INTERVAL:P3D
CALSCALE:GREGORIAN
BEGIN:VEVENT
DTSTART:20211212T160000Z
DTEND:20211212T200000Z
X-MICROSOFT-CDO-ALLDAYEVENT:FALSE
SUMMARY:Clínica Gratis de Vacunación contra el COVID
DESCRIPTION:Cu ndo\n\nDomingo 12 de Diciembre \n\n11 am a 3 pm\n\n\n\nD nde \n\nCincinnati Children's\n\nHospital de Liberty Township\n\n7777 Yankee Road\n\n\n\nQui nes \n\nJ venes y adultos\n\nde 5 a os de edad en adelante\n\n	Habr  personal que habla espa ol disponible para ayudar\n	Todos los ni os menores de 18 a os deben estar acompa ados por su padre\, madre o persona autorizada para dar consentimiento.\n	No se requiere identificaci n\n	Ofrecemos primeras\, segundas y dosis de refuerzo de la vacuna Pfizer\n\nPuede acudir sin cita o llamar al 513.517.4652 para hablar con un int rprete en espa ol
X-ALT-DESC;FMTTYPE=text/html:Cu&aacute\;ndo<br />\nDomingo 12 de Diciembre&nbsp\;<br />\n11 am a 3 pm<br />\n<br />\nD&oacute\;nde&nbsp\;<br />\nCincinnati Children&#39\;s<br />\nHospital de Liberty Township<br />\n7777 Yankee Road<br />\n<br />\nQui&eacute\;nes&nbsp\;<br />\nJ&oacute\;venes y adultos<br />\nde 5 a&ntilde\;os de edad en adelante\n<ul>\n	<li>Habr&aacute\; personal que habla espa&ntilde\;ol disponible para ayudar</li>\n	<li>Todos los ni&ntilde\;os menores de 18 a&ntilde\;os deben estar acompa&ntilde\;ados por su padre\, madre o persona autorizada para dar consentimiento.</li>\n	<li>No se requiere identificaci&oacute\;n</li>\n	<li>Ofrecemos primeras\, segundas y dosis de refuerzo de la vacuna Pfizer</li>\n</ul>\nPuede acudir sin cita o llamar al 513.517.4652 para hablar con un int&eacute\;rprete en espa&ntilde\;ol
LOCATION:Cincinnati Children's Hospital de Liberty Township 7777 Yankee Road
UID:e.818.17649
SEQUENCE:3
DTSTAMP:20260426T025117Z
URL:https://business.hispanicchambercincinnati.com/events/details/cl&#237;nica-gratis-de-vacunaci&#243;n-contra-el-covid-17649
END:VEVENT

END:VCALENDAR
