BEGIN:VCALENDAR
VERSION:2.0
PRODID:-//ChamberMaster//Event Calendar 2.0//EN
METHOD:PUBLISH
X-PUBLISHED-TTL:P3D
REFRESH-INTERVAL:P3D
CALSCALE:GREGORIAN
BEGIN:VEVENT
DTSTART:20240913T203000Z
DTEND:20240914T000000Z
X-MICROSOFT-CDO-ALLDAYEVENT:FALSE
SUMMARY:CMC Campaign Celebration
DESCRIPTION:The Philanthropy team at Cincinnati Museum Center cordially invites you to join as we celebrate the successful completion of our Champion More Curiosity campaign.\n\nDate:\n\nTuesday\, September 10\n\n4:30 to 8 p.m.\n\nFood and beverage will be available for purchase.\n\nLocation:\n\nCincinnati Museum Center\n\n1301 Western Avenue\n\nCincinnati\, OH 45203\n\nPlease fill out the form to confirm your attendance.
X-ALT-DESC;FMTTYPE=text/html:<p>The Philanthropy team at Cincinnati Museum Center cordially invites you to join as we celebrate the successful completion of our Champion More Curiosity campaign.</p>\n\n<p>Date:<br />\nTuesday\, September 10<br />\n4:30 to 8 p.m.</p>\n\n<p>Food and beverage will be available for purchase.</p>\n\n<p>Location:<br />\nCincinnati Museum Center<br />\n1301 Western Avenue<br />\nCincinnati\, OH 45203</p>\n\n<p>Please fill out the form&nbsp\;to confirm your attendance.</p>\n
LOCATION:Cincinnati Museum Center 1301 Western Avenue Cincinnati\, OH 45203
UID:e.818.20151
SEQUENCE:3
DTSTAMP:20260420T161309Z
URL:https://business.hispanicchambercincinnati.com/events/details/cmc-campaign-celebration-20151
END:VEVENT

END:VCALENDAR
