BEGIN:VCALENDAR
VERSION:2.0
PRODID:-//ChamberMaster//Event Calendar 2.0//EN
METHOD:PUBLISH
X-PUBLISHED-TTL:P3D
REFRESH-INTERVAL:P3D
CALSCALE:GREGORIAN
BEGIN:VEVENT
DTSTART:20250304T233000Z
DTEND:20250305T020000Z
X-MICROSOFT-CDO-ALLDAYEVENT:FALSE
SUMMARY:CONCACAF Champions Cup
DESCRIPTION:The first game is against Tigres UANL on March 4 at 6:30 PM at TQL Stadium for the CONCACAF Champions Cup.
X-ALT-DESC;FMTTYPE=text/html:The first game is against Tigres UANL on March 4 at 6:30 PM at TQL Stadium for the CONCACAF Champions Cup.&nbsp\;
LOCATION:
UID:e.818.21252
SEQUENCE:3
DTSTAMP:20260423T124306Z
URL:https://business.hispanicchambercincinnati.com/events/details/concacaf-champions-cup-21252
END:VEVENT

END:VCALENDAR
