BEGIN:VCALENDAR
VERSION:2.0
PRODID:-//ChamberMaster//Event Calendar 2.0//EN
METHOD:PUBLISH
X-PUBLISHED-TTL:P3D
REFRESH-INTERVAL:P3D
CALSCALE:GREGORIAN
BEGIN:VEVENT
DTSTART:20240918T123000Z
DTEND:20240918T180000Z
X-MICROSOFT-CDO-ALLDAYEVENT:FALSE
SUMMARY:ConfluenceTM 2024 Shine Online - Illuminate Success in a Digital World
DESCRIPTION:PLEASE JOIN US SHINE ONLINE\n\nIlluminate Success in a Digital World\n\n \n\nCONFLUENCE  2024 will focus on the internet and how to enhance your business's success online. We will explore both the rewards and challenges as you seek five-star reviews\, use AI\, develop a website\, navigate searches\, sell\, blog\, and post. No matter where you are in your digital journey\, please join us for a day full of information\, connection\, mentoring\, and solutions related to your business's marketing\, reach\, reputation\, legal risks\, and security.\n\n \n\nPresenters:\n\n\n	Cincinnati Mayor Aftab Pureval\n	Kendra Ramirez\, KR Digital\n	Rusty Allison\, Advanced Online Insights\n	Dave Hatter\, Intrust IT\n	Carman Krupar\, Cybervise\n	Sean Mangan\, UC's College of Law\n	Shaquille Riston\, Minority Business Assistance Center\n	Lauren Artino\, Director Digital Content\, Game Day Communications\n	Jessica Shely\, GPD Creative Agency\n	Nicole Pickard\, SBA\n	Whitney Barkley\, University of Dayton\n	Bonnie Rib\, SCORE \n\n\n \nWednesday\, September 18\, 2024\n\n8:30 A.M.   2:00 P.M. \n\nUnited Way of Greater Cincinnati\n\n2400 Reading Rd. Cincinnati\, OH 45202
X-ALT-DESC;FMTTYPE=text/html:<div>PLEASE JOIN US&nbsp\;SHINE ONLINE</div>\n\n<div>Illuminate Success in a Digital World<br />\n&nbsp\;</div>\n\n<div>CONFLUENCE&trade\;&nbsp\;2024&nbsp\;will focus on&nbsp\;the internet and how to enhance your business&rsquo\;s success online.&nbsp\;We will explore both the rewards and challenges as you seek five-star reviews\, use AI\, develop a website\, navigate searches\, sell\, blog\, and post. No matter where you are in your digital journey\, please join us for a day full of information\, connection\, mentoring\, and solutions related to your business&rsquo\;s marketing\, reach\, reputation\, legal risks\, and security.</div>\n\n<div>&nbsp\;</div>\n\n<div>Presenters:</div>\n\n<ul>\n	<li>Cincinnati Mayor Aftab Pureval</li>\n	<li>Kendra Ramirez\, KR Digital</li>\n	<li>Rusty Allison\, Advanced Online Insights</li>\n	<li>Dave Hatter\, Intrust IT</li>\n	<li>Carman Krupar\, Cybervise</li>\n	<li>Sean Mangan\, UC&rsquo\;s College of Law</li>\n	<li>Shaquille Riston\, Minority Business Assistance&nbsp\;Center</li>\n	<li>Lauren Artino\, Director Digital Content\, Game&nbsp\;Day Communications</li>\n	<li>Jessica Shely\, GPD Creative Agency</li>\n	<li>Nicole Pickard\, SBA</li>\n	<li>Whitney Barkley\, University of Dayton</li>\n	<li>Bonnie Rib\, SCORE&#65279\;</li>\n</ul>\n\n<div>&nbsp\;\n<div>Wednesday\, September 18\, 2024</div>\n\n<p>8:30 A.M. &ndash\; 2:00 P.M.&nbsp\;</p>\n\n<div>United Way of Greater Cincinnati</div>\n\n<div>2400 Reading Rd. Cincinnati\, OH 45202</div>\n</div>\n
LOCATION:
UID:e.818.20118
SEQUENCE:3
DTSTAMP:20260420T161949Z
URL:https://business.hispanicchambercincinnati.com/events/details/confluencetm-2024-shine-online-illuminate-success-in-a-digital-world-20118
END:VEVENT

END:VCALENDAR
