BEGIN:VCALENDAR
VERSION:2.0
PRODID:-//ChamberMaster//Event Calendar 2.0//EN
METHOD:PUBLISH
X-PUBLISHED-TTL:P3D
REFRESH-INTERVAL:P3D
CALSCALE:GREGORIAN
BEGIN:VEVENT
DTSTART:20230624T170000Z
DTEND:20230624T183000Z
X-MICROSOFT-CDO-ALLDAYEVENT:FALSE
SUMMARY:Connect: A Program for Adults with Developmental Disabilities and their Caregivers
DESCRIPTION:This program is specifically designed for adults with developmental disabilities and their caregivers. Each month\, we will explore different parts of the museum on a multisensory tour\, then create art related to what we see. Visitors will meet in the Great Hall then be led on a tour through the galleries.\n\n\n\nIf you need accessibility accommodations for this program or event\, please email access@cincyart.org. Please contact us in advance to ensure accommodations can be made.\nSaturday\, June 24\, 2023\, at 1 2:30 p.m.\n\nFree. Reservations required.
X-ALT-DESC;FMTTYPE=text/html:This program is specifically designed for adults with developmental disabilities and their caregivers. Each month\, we will explore different parts of the museum on a multisensory tour\, then create art related to what we see. Visitors will meet in the Great Hall then be led on a tour through the galleries.<br />\n<br />\nIf you need accessibility accommodations for this program or event\, please email&nbsp\;<a href="mailto:access@cincyart.org" rel="noreferrer noopener" tabindex="-1" target="_blank" title="mailto:access@cincyart.org">access@cincyart.org</a>.&nbsp\;Please contact us in advance to ensure accommodations can be made.\n<p>Saturday\, June 24\, 2023\, at 1&ndash\;2:30 p.m.</p>\n\n<p>Free. Reservations required.</p>\n
LOCATION:953 Eden Park Drive Cincinnati\, OH 45202
UID:e.818.19013
SEQUENCE:3
DTSTAMP:20260421T085019Z
URL:https://business.hispanicchambercincinnati.com/events/details/connect-a-program-for-adults-with-developmental-disabilities-and-their-caregivers-19013
END:VEVENT

END:VCALENDAR
