BEGIN:VCALENDAR
VERSION:2.0
PRODID:-//ChamberMaster//Event Calendar 2.0//EN
METHOD:PUBLISH
X-PUBLISHED-TTL:P3D
REFRESH-INTERVAL:P3D
CALSCALE:GREGORIAN
BEGIN:VEVENT
DTSTART:20240921T140000Z
DTEND:20240921T170000Z
X-MICROSOFT-CDO-ALLDAYEVENT:FALSE
SUMMARY:Connect ERG
DESCRIPTION:Event Overview\n\n\n\nCONNECT represents a regional alliance of Employee Resource Groups (ERG) committed to fostering diverse talent in the area by attracting\, nurturing\, and retaining professionals from varied backgrounds. Our upcoming Connect ERG will unite ERG members from numerous companies across Cincinnati and Northern Kentucky.\n\nAt this ConnectERG event\, we will be doing a follow-up on our May meeting\, providing practical takeaways from the recommendations you gave! We will also be diving into further learnings that you can bring to your ERGs. Even if you did not attend our May meeting\, we still invite you to come collaborate with other ERG leaders and participants. \n\nIf you're part of an ERG\, seeking insights to launch or revitalize one\, interested in networking your ERG with others in different organizations\, or employed at a small or mid-sized company\, mark your calendar for this essential event. The morning session will delve into the challenges your ERG may face currently\, the resources and services that could enhance your organization\, and ways the chamber can promote diversity\, equity\, inclusion\, and a sense of belonging within your workplace and the broader community.\n\n\n\nCincinnati Regional Chamber\n\n3 East 4th Street\, Cincinnati\, OH 45202\n\n\n\nParking Options:\n\n\n	The Fourth & Race Parking Garage is located down the street\, with entrances on Race and Elm\n	Olympic Auto Park is located behind the Chamber at 312 Vine St\n	Fountain Square South Garage is located at 416 Vine St\n	Street parking may also be available
X-ALT-DESC;FMTTYPE=text/html:<div>\n<p>Event Overview</p>\n</div>\n\n<div><lightning-formatted-rich-text lwc-4nfn2rc40ch-host="">\n<p lwc-4nfn2rc40ch="">CONNECT represents a regional alliance of Employee Resource Groups (ERG) committed to fostering diverse talent in the area by attracting\, nurturing\, and retaining professionals from varied backgrounds. Our upcoming Connect ERG will unite ERG members from numerous companies across Cincinnati and Northern Kentucky.</p>\n\n<p lwc-4nfn2rc40ch="">At this ConnectERG event\, we will be doing a follow-up on our May meeting\, providing practical takeaways from the recommendations you gave! We will also be diving into further learnings that you can bring to your ERGs. Even if you did not attend our May meeting\, we still invite you to come collaborate with other ERG leaders and participants.&nbsp\;</p>\n\n<p lwc-4nfn2rc40ch="">If you&#39\;re part of an ERG\, seeking insights to launch or revitalize one\, interested in networking your ERG with others in different organizations\, or employed at a small or mid-sized company\, mark your calendar for this essential event. The morning session will delve into the challenges your ERG may face currently\, the resources and services that could enhance your organization\, and ways the chamber can promote diversity\, equity\, inclusion\, and a sense of belonging within your workplace and the broader community.<br />\n<br />\nCincinnati Regional Chamber<br />\n3 East 4th Street\, Cincinnati\, OH 45202<br />\n<br />\nParking Options:</p>\n\n<ul>\n	<li lwc-4nfn2rc40ch="">The Fourth &amp\; Race Parking Garage is located down the street\, with entrances on Race and Elm</li>\n	<li lwc-4nfn2rc40ch="">Olympic Auto Park is located behind the Chamber at 312 Vine St</li>\n	<li lwc-4nfn2rc40ch="">Fountain Square South Garage is located at 416 Vine St</li>\n	<li lwc-4nfn2rc40ch="">Street parking may also be available</li>\n</ul>\n</lightning-formatted-rich-text></div>\n
LOCATION:Cincinnati Regional Chamber 3 East 4th Street\, Cincinnati\, OH 45202 Parking Options: The Fourth & Race Parking Garage is located down the street\, with entrances on Race and Elm Olympic Auto Park is located behind the Chamber at 312 Vine St Fountain Square South Garage is located at 416 Vine St Street parking may also be available
UID:e.818.20138
SEQUENCE:3
DTSTAMP:20260420T161022Z
URL:https://business.hispanicchambercincinnati.com/events/details/connect-erg-20138
END:VEVENT

END:VCALENDAR
