BEGIN:VCALENDAR
VERSION:2.0
PRODID:-//ChamberMaster//Event Calendar 2.0//EN
METHOD:PUBLISH
X-PUBLISHED-TTL:P3D
REFRESH-INTERVAL:P3D
CALSCALE:GREGORIAN
BEGIN:VEVENT
DTSTART:20230708T150000Z
DTEND:20230708T190000Z
X-MICROSOFT-CDO-ALLDAYEVENT:FALSE
SUMMARY:CPS Career Opportunities
DESCRIPTION:Join Staff from Cincinnati Public Schools to learn more about positions for which they are hiring:\n\n\n\n	Hiring for teachers\, substitutes\, paraprofessionals\, security\, custodians\, student services assistants\, and food service helpers.\n	Seeking candidates who are skilled at working with students from various backgrounds\, or are interested in learning how to use empathy\, trauma-informed practices\, and holistic methods to support the needs of the whole child.\n\n\n\n\nSaturday\, July 8\, 2023\n\n11:00 AM   3:00 PM\n\n Blue Ash\n\n\n\nSuitable for: Adults\n\nType: Jobs and Careers \n\nLanguage: English \n\nAdditional Details: Meeting Room\n\n\n\nContact: Denise Scretchen\n\nTelephone: (513) 369-6051 \n\nEmail: denise.scretchen@chpl.org
X-ALT-DESC;FMTTYPE=text/html:<p>Join Staff from Cincinnati Public Schools to learn more about positions for which they are hiring:</p>\n\n<div itemprop="description">\n<ul>\n	<li>Hiring for&nbsp\;teachers\, substitutes\, paraprofessionals\, security\, custodians\, student services assistants\, and food service helpers.</li>\n	<li>Seeking&nbsp\;candidates who are skilled at working with students from various backgrounds\, or are interested in learning how to use empathy\, trauma-informed practices\, and holistic methods to support the needs of the whole child.</li>\n</ul>\n\n<p><br />\nSaturday\, July 8\, 2023<br />\n11:00 AM&nbsp\;&ndash\;&nbsp\;3:00 PM<br />\n&#8203\;Blue Ash<br />\n<br />\nSuitable for:&nbsp\;Adults<br />\nType:&nbsp\;<a data-ember-action="1249" href="https://cincinnatilibrary.bibliocommons.com/events/6499f5a56d11062800b78c62#">Jobs and Careers&nbsp\;</a><br />\nLanguage:&nbsp\;English&nbsp\;<br />\nAdditional Details: Meeting Room<br />\n<br />\nContact:&nbsp\;Denise Scretchen<br />\nTelephone:&nbsp\;(513) 369-6051&nbsp\;<br />\nEmail:&nbsp\;<a data-bindattr-1293="1293" href="mailto:denise.scretchen@chpl.org">denise.scretchen@chpl.org</a></p>\n\n<p>&nbsp\;</p>\n</div>\n
LOCATION:4911 Cooper Rd. Cincinnati Ohio 45242
UID:e.818.19035
SEQUENCE:3
DTSTAMP:20260421T053255Z
URL:https://business.hispanicchambercincinnati.com/events/details/cps-career-opportunities-19035
END:VEVENT

END:VCALENDAR
