BEGIN:VCALENDAR
VERSION:2.0
PRODID:-//ChamberMaster//Event Calendar 2.0//EN
METHOD:PUBLISH
X-PUBLISHED-TTL:P3D
REFRESH-INTERVAL:P3D
CALSCALE:GREGORIAN
BEGIN:VEVENT
DTSTART:20230719T183000Z
DTEND:20230719T191500Z
X-MICROSOFT-CDO-ALLDAYEVENT:FALSE
SUMMARY:Create & Play | Modern Vision
DESCRIPTION:Bring your young one to the Taft!\n\n\n\nExplore the galleries together while learning about art through guided activities and interactive games. Then get creative in the studio and make your own masterpiece to take home.\n\n\n\nThis monthly program is designed for children ages 2 6 and their caregivers. This month\, practice the art of observation in our special exhibition Modern Women/Modern\n\nVision: Photography from the Bank of America Collection.
X-ALT-DESC;FMTTYPE=text/html:Bring your young one to the Taft!<br />\n<br />\nExplore the galleries together while learning about art through guided activities and interactive games. Then get creative in the studio and make your own masterpiece to take home.<br />\n<br />\nThis monthly program is designed for children ages 2&ndash\;6 and their caregivers. This month\, practice the art of observation in our special exhibition Modern Women/Modern<br />\nVision: Photography from the Bank of America Collection.
LOCATION:Taft Museum of Art 316 Pike St\, Cincinnati\, OH 45202
UID:e.818.18998
SEQUENCE:3
DTSTAMP:20260421T053121Z
URL:https://business.hispanicchambercincinnati.com/events/details/create-play-modern-vision-18998
END:VEVENT

END:VCALENDAR
