BEGIN:VCALENDAR
VERSION:2.0
PRODID:-//ChamberMaster//Event Calendar 2.0//EN
METHOD:PUBLISH
X-PUBLISHED-TTL:P3D
REFRESH-INTERVAL:P3D
CALSCALE:GREGORIAN
BEGIN:VEVENT
DTSTART:20230816T141500Z
DTEND:20230816T150000Z
X-MICROSOFT-CDO-ALLDAYEVENT:FALSE
SUMMARY:Create & Play | Modern Women
DESCRIPTION:Bring your young one to the Taft!\n\n\n\nExplore the galleries together while learning about art through guided activities and interactive games. Then get creative in the studio and make your own masterpiece to take home.\n\n\n\nThis monthly program is designed for children ages 2 6 and their caregivers. This month\, explore the important roles women have played in their community in our special exhibition Modern Women\, Modern Vision: Photography from the Bank of America Collection.
X-ALT-DESC;FMTTYPE=text/html:Bring your young one to the Taft!<br />\n<br />\nExplore the galleries together while learning about art through guided activities and interactive games. Then get creative in the studio and make your own masterpiece to take home.<br />\n<br />\nThis monthly program is designed for children ages 2&ndash\;6 and their caregivers. This month\, explore the important roles women have played in their community in our special exhibition Modern Women\, Modern Vision: Photography from the Bank of America Collection.
LOCATION:Taft Museum of Art 316 Pike St\, Cincinnati\, OH 45202
UID:e.818.19003
SEQUENCE:3
DTSTAMP:20260421T033422Z
URL:https://business.hispanicchambercincinnati.com/events/details/create-play-modern-women-19003
END:VEVENT

END:VCALENDAR
