BEGIN:VCALENDAR
VERSION:2.0
PRODID:-//ChamberMaster//Event Calendar 2.0//EN
METHOD:PUBLISH
X-PUBLISHED-TTL:P3D
REFRESH-INTERVAL:P3D
CALSCALE:GREGORIAN
BEGIN:VEVENT
DTSTART:20250319T141500Z
DTEND:20250319T150000Z
X-MICROSOFT-CDO-ALLDAYEVENT:FALSE
SUMMARY:Create & Play | The Art of Watercolor
DESCRIPTION:Explore the galleries with your young one while learning about art through guided activities and interactive games. Then get creative in the studio and make your own masterpiece to take home. This monthly program is designed for children ages 2 6 and their caregivers.\n\n\n\nCreate & Play Third Wednesday of the Month 10:15 11 a.m. \n\n\n\nDecember 18 | Family Traditions\n\nJanuary 15 | ABC's of the Taft\n\nFebruary 19 | Mystery & Benevolence\n\nMarch 19 | The Art of Watercolor\n\nApril 16 | 1\, 2\, 3\, How Many Do You See?\n\n\n\nQuestions? Contact education@taftmuseum.org.
X-ALT-DESC;FMTTYPE=text/html:Explore the galleries with your young one while learning about art through guided activities and interactive games. Then get creative in the studio and make your own masterpiece to take home. This monthly program is designed for children ages 2&ndash\;6 and their caregivers.<br />\n<br />\nCreate &amp\; Play Third Wednesday of the Month 10:15&ndash\;11 a.m.&nbsp\;<br />\n<br />\nDecember 18 | Family Traditions<br />\nJanuary 15 | ABC&#39\;s of the Taft<br />\nFebruary 19 | Mystery &amp\; Benevolence<br />\nMarch 19 | The Art of Watercolor<br />\nApril 16 | 1\, 2\, 3\, How Many Do You See?<br />\n<br />\nQuestions? Contact education@taftmuseum.org.
LOCATION:Taft Museum of Art
UID:e.818.20668
SEQUENCE:3
DTSTAMP:20260423T124655Z
URL:https://business.hispanicchambercincinnati.com/events/details/create-play-the-art-of-watercolor-20668
END:VEVENT

END:VCALENDAR
