BEGIN:VCALENDAR
VERSION:2.0
PRODID:-//ChamberMaster//Event Calendar 2.0//EN
METHOD:PUBLISH
X-PUBLISHED-TTL:P3D
REFRESH-INTERVAL:P3D
CALSCALE:GREGORIAN
BEGIN:VEVENT
DTSTART:20230622T021500Z
DTEND:20230622T030000Z
X-MICROSOFT-CDO-ALLDAYEVENT:FALSE
SUMMARY:Create & Play : Through the Trees
DESCRIPTION:Bring your young one to the Taft! Explore the galleries together while learning about art through guided activities and interactive games. Then get creative in the studio and make your masterpiece to take home. This monthly program is designed for children ages 2 6 and their caregivers.\n\n\n\nThis month\, imagine what you could uncover in Robert S. Duncanson's landscape murals by peering through the painted trees.\n\n\n\nAdmission is free for Taft members\, guests of members with a guest pass\, military\, and youth (18 and under)\; $12 for adults\; $10 for seniors. Non-members save $2 by purchasing tickets online. Includes admission to special exhibitions and the museum's permanent collection galleries in the Taft historic house.
X-ALT-DESC;FMTTYPE=text/html:Bring your young one to the Taft! Explore the galleries together while learning about art through guided activities and interactive games. Then get creative in the studio and make your masterpiece to take home. This monthly program is designed for children ages 2&ndash\;6 and their caregivers.<br />\n<br />\nThis month\, imagine what you could uncover in Robert S. Duncanson&rsquo\;s landscape murals by peering through the painted trees.<br />\n<br />\nAdmission is free for Taft members\, guests of members with a guest pass\, military\, and youth (18 and under)\; $12 for adults\; $10 for seniors. Non-members save $2 by purchasing tickets online. Includes admission to special exhibitions and the museum&rsquo\;s permanent collection galleries in the Taft historic house.
LOCATION:Taft Museum of Art 316 Pike St Cincinnati\, OH 45202
UID:e.818.18993
SEQUENCE:3
DTSTAMP:20260421T084635Z
URL:https://business.hispanicchambercincinnati.com/events/details/create-play-through-the-trees-18993
END:VEVENT

END:VCALENDAR
