BEGIN:VCALENDAR
VERSION:2.0
PRODID:-//ChamberMaster//Event Calendar 2.0//EN
METHOD:PUBLISH
X-PUBLISHED-TTL:P3D
REFRESH-INTERVAL:P3D
CALSCALE:GREGORIAN
BEGIN:VEVENT
DTSTART:20240919T210000Z
DTEND:20240920T000000Z
X-MICROSOFT-CDO-ALLDAYEVENT:FALSE
SUMMARY:Cultivate + Connect: A Celebration of Our Regional Food System
DESCRIPTION:Join Green Umbrella for an evening of connection\, storytelling\, and celebration of our region's food system champions.\n\n\n\nResilient and equitable food systems are the foundation of a thriving community. For 14 years\, we've been bringing stakeholders together from across the food system to collaborate and strengthen food production\, distribution\, and access   farmers\, institutions\, restaurants\, grocery stores\, farmers markets\, schools\, chefs\, food rescuers\, advocates\, volunteers\, and of course\, consumers!\n\n\n\nOur community has achieved so much   and we're thrilled to host this new event to bring everyone together\, highlight the incredible work of our partners and community leaders who work tirelessly to cultivate connections and resources\, educate decision makers\, eliminate food deserts\, support local farmers\, create community orchards\, and get fresh\, local food into our schools and neighborhoods.\n\n\n\nThe evening will feature delicious food from a variety of local caterers and each attendee will receive two drink tickets. Thank you to Urban Artifact for hosting us in their beautiful event space\, The Reliquary.\n\n\n\nPlease register by 9/12.\n\n\n\nAll proceeds and donations will support Green Umbrella's food system programs   the Greater Cincinnati Regional Food Policy Council and the Common Orchard Project. If you are unable to attend\, you can support this important work with a charitable contribution at https://greenumbrella.org/donate\n\n\n\nIs your organization interested in sponsoring our food system programs? Benefits include marketing and team building opportunities\, including acknowledgment at events and in communications for 12 months. Check out our sponsor package and contact charlie@greenumbrella.org to learn more.
X-ALT-DESC;FMTTYPE=text/html:Join Green Umbrella for an evening of connection\, storytelling\, and celebration of our region&rsquo\;s food system champions.<br />\n<br />\nResilient and equitable food systems are the foundation of a thriving community. For 14 years\, we&rsquo\;ve been bringing stakeholders together from across the food system to collaborate and strengthen food production\, distribution\, and access &ndash\; farmers\, institutions\, restaurants\, grocery stores\, farmers markets\, schools\, chefs\, food rescuers\, advocates\, volunteers\, and of course\, consumers!<br />\n<br />\nOur community has achieved so much &ndash\; and we&rsquo\;re thrilled to host this new event to bring everyone together\, highlight the incredible work of our partners and community leaders who work tirelessly to cultivate connections and resources\, educate decision makers\, eliminate food deserts\, support local farmers\, create community orchards\, and get fresh\, local food into our schools and neighborhoods.<br />\n<br />\nThe evening will feature delicious food from a variety of local caterers and each attendee will receive two drink tickets. Thank you to Urban Artifact for hosting us in their beautiful event space\, The Reliquary.<br />\n<br />\nPlease register by 9/12.<br />\n<br />\nAll proceeds and donations will support Green Umbrella&rsquo\;s food system programs &ndash\; the Greater Cincinnati Regional Food Policy Council and the Common Orchard Project. If you are unable to attend\, you can support this important work with a charitable contribution at https://greenumbrella.org/donate<br />\n<br />\nIs your organization interested in sponsoring our food system programs? Benefits include marketing and team building opportunities\, including acknowledgment at events and in communications for 12 months. Check out our sponsor package and contact charlie@greenumbrella.org to learn more.
LOCATION:The Reliquary @ Urban Artifact
UID:e.818.20112
SEQUENCE:3
DTSTAMP:20260420T161943Z
URL:https://business.hispanicchambercincinnati.com/events/details/cultivate-connect-a-celebration-of-our-regional-food-system-20112
END:VEVENT

END:VCALENDAR
