BEGIN:VCALENDAR
VERSION:2.0
PRODID:-//ChamberMaster//Event Calendar 2.0//EN
METHOD:PUBLISH
X-PUBLISHED-TTL:P3D
REFRESH-INTERVAL:P3D
CALSCALE:GREGORIAN
BEGIN:VEVENT
DTSTART:20230325T140000Z
DTEND:20230325T160000Z
X-MICROSOFT-CDO-ALLDAYEVENT:FALSE
SUMMARY:Defend Your Business\, Defend Yourself
DESCRIPTION:Please join KeyBank and Dress for Success as we co-host this woman-empowered workshop. Connect with others as\n\nexperts share how to defend ourselves and our businesses from potential cyber-attacks.\n\n\n\nSaturday March 25th\, 2023 | 10:00 AM - 12:00 PM\n\nDress for Success Cincinnati | 4623 Wesley Avenue Suite H Cincinnati\, OH 45212\n\n\n\nEvent Details\n\nSupporting our community is top priority. We will be collecting personal hygiene items that will be directly donated to\n\nDress for Success. Please Note: wearing clothes/shoes that are easy to move in are encouraged. Light brunch provided by LuLa's Catering. Portaluca Boutique will be open!\n\n\n\nFor more information\, contact Amanda Scott at Amanda_R_Scott@KeyBank.com\n\nRegistration is required by Friday\, March 17th\, 2023\n\n\n\nRegister Today
X-ALT-DESC;FMTTYPE=text/html:Please join KeyBank and Dress for Success as we co-host this woman-empowered workshop. Connect with others as<br />\nexperts share how to defend ourselves and our businesses from potential cyber-attacks.<br />\n<br />\nSaturday March 25th\, 2023 | 10:00 AM - 12:00 PM<br />\nDress for Success Cincinnati | 4623 Wesley Avenue Suite H Cincinnati\, OH 45212<br />\n<br />\nEvent Details<br />\nSupporting our community is top priority. We will be collecting personal hygiene items that will be directly donated to<br />\nDress for Success. Please Note: wearing clothes/shoes that are easy to move in are encouraged. Light brunch provided&nbsp\;by LuLa&rsquo\;s Catering. Portaluca Boutique will be open!<br />\n<br />\nFor more information\, contact Amanda Scott at Amanda_R_Scott@KeyBank.com<br />\nRegistration is required by Friday\, March 17th\, 2023<br />\n<br />\nRegister Today
LOCATION:Dress for Success Cincinnati 4623 Wesley Avenue Suite H Cincinnati\, OH 45212
UID:e.818.18645
SEQUENCE:3
DTSTAMP:20260423T221914Z
URL:https://business.hispanicchambercincinnati.com/events/details/defend-your-business-defend-yourself-18645
END:VEVENT

END:VCALENDAR
