BEGIN:VCALENDAR
VERSION:2.0
PRODID:-//ChamberMaster//Event Calendar 2.0//EN
METHOD:PUBLISH
X-PUBLISHED-TTL:P3D
REFRESH-INTERVAL:P3D
CALSCALE:GREGORIAN
BEGIN:VEVENT
DTSTART:20230817T213000Z
DTEND:20230817T233000Z
X-MICROSOFT-CDO-ALLDAYEVENT:FALSE
SUMMARY:Diaper Bank Event
DESCRIPTION:Please join us for a DIAPER PACKING EVENT  With the Hispanic Chamber Cincinnati USA.\n\n\n\nSweet Cheeks Diaper Bank partners with local social service agencies to provide free diapers to low-income families while raising awareness of the basic health need for diapers.\n\n\n\nWhen: Thursday\, August 17th\n\nTime: 5.30 pm to 7.30 pm\n\nLocation: 1400 State Ave\, Cincinnati\, OH
X-ALT-DESC;FMTTYPE=text/html:Please join us for a DIAPER PACKING EVENT &#8203\;With the Hispanic Chamber Cincinnati USA.<br />\n<br />\nSweet Cheeks Diaper Bank partners with local social service agencies to provide free diapers to low-income families while raising awareness of the basic health need for diapers.<br />\n<br />\n<strong>When:</strong> Thursday\, August 17th<br />\n<strong>Time:</strong> 5.30 pm to 7.30 pm<br />\n<strong>Location: </strong>1400 State Ave\, Cincinnati\, OH<br />\n<br />\n<br />\n<br />\n&nbsp\;
LOCATION:1400 State Ave Cincinnati\, OH
UID:e.818.19043
SEQUENCE:3
DTSTAMP:20260420T232635Z
URL:https://business.hispanicchambercincinnati.com/events/details/diaper-bank-event-19043
END:VEVENT

END:VCALENDAR
