BEGIN:VCALENDAR
VERSION:2.0
PRODID:-//ChamberMaster//Event Calendar 2.0//EN
METHOD:PUBLISH
X-PUBLISHED-TTL:P3D
REFRESH-INTERVAL:P3D
CALSCALE:GREGORIAN
BEGIN:VEVENT
DTSTART:20221010T140000Z
DTEND:20221010T160000Z
X-MICROSOFT-CDO-ALLDAYEVENT:FALSE
SUMMARY:Dinosaurs of Antarctica
DESCRIPTION:WHAT: Dinosaurs have never been cooler. \n\n \n\nTravel back in time as the land of snow and ice transforms into a lush woodland teeming with prehistoric beasts. Meet Cincinnati Museum Center's paleontologists to learn how intrepid scientists are braving incredible conditions to recover these incredible fossils from the frozen landscape. \n\n \n\nCincinnati Museum Center's newest featured exhibition introduces you to dinosaurs you've never seen before with real fossils and lifelike sculptures. Meet the fierce 25-foot-long predator Cryolophosaurus\, the rhino-sized long-necked herbivore Glacialisaurus and the sleek predator of the seas Taniwhasaurus. Get hands on as you experiment with the tools paleontologists are using to uncover these discoveries from the snow and ice. And strap yourself in to Birdly as you soar above a prehistoric landscape and among the treetops and necks of the Jurassic.\n\n \n\nDinosaurs of Antarctica opens to the public October 14\, along with a companion OMNIMAX  film of the same name where the dinosaurs thunder to life across the five-story dome screen. The exhibition is included with museum admission and free for museum Members. The OMNIMAX  film requires an additional ticket.\n\n \n\nPRESS RELEASE\n\n \n\nWHEN: 10 a.m. to Noon\, Thursday\, October 13\n\n \n\nWHERE: Cincinnati Museum Center\, 1301 Western Avenue\, Cincinnati\, OH 45203\n\n \n\nWHO: Meet Cincinnati Museum Center paleontologists and scientists\, including\n\n\n	Dr. Glenn Storrs\, Withrow Farny Curator of Vertebrate Paleontology\n	Dr. Brenda Hunda\, Curator of Invertebrate Paleontology\n	Cameron Schwalbach\, Paleontology Collections Manager
X-ALT-DESC;FMTTYPE=text/html:<div style="font-family: Helvetica\; font-size: 12px\;">\n<div>WHAT:&nbsp\;Dinosaurs have never been cooler.&nbsp\;</div>\n\n<div>&nbsp\;</div>\n\n<div>Travel back in time as the land of snow and ice transforms into a lush woodland teeming with prehistoric beasts. Meet Cincinnati Museum Center&rsquo\;s paleontologists to learn how intrepid scientists are braving incredible conditions to recover these incredible fossils from the frozen landscape.&nbsp\;<br />\n&nbsp\;\n<div>\n<div>Cincinnati Museum Center&rsquo\;s newest featured exhibition introduces you to dinosaurs you&rsquo\;ve never seen before with real fossils and lifelike sculptures. Meet the fierce 25-foot-long predator&nbsp\;Cryolophosaurus\, the rhino-sized long-necked herbivore&nbsp\;Glacialisaurus&nbsp\;and the sleek predator of the seas&nbsp\;Taniwhasaurus. Get hands on as you experiment with the tools paleontologists are using to uncover these discoveries from the snow and ice. And strap yourself in to Birdly as you soar above a prehistoric landscape and among the treetops and necks of the Jurassic.</div>\n\n<div>&nbsp\;</div>\n\n<div>Dinosaurs of Antarctica&nbsp\;opens to the public October 14\, along with a companion OMNIMAX&reg\; film of the same name where the dinosaurs thunder to life across the five-story dome screen. The exhibition is included with museum admission and free for museum Members. The OMNIMAX&reg\; film requires an additional ticket.</div>\n\n<div>&nbsp\;</div>\n\n<div><a data-saferedirecturl="https://www.google.com/url?q=https://www.cincymuseum.org/press/dinosaurs-have-never-been-cooler/&amp\;source=gmail&amp\;ust=1664628048942000&amp\;usg=AOvVaw0VXqJlxTFq1V2sQqcOgral" href="https://www.cincymuseum.org/press/dinosaurs-have-never-been-cooler/" target="_blank">PRESS RELEASE</a></div>\n\n<div>&nbsp\;</div>\n\n<div>WHEN:&nbsp\;10 a.m. to Noon\, Thursday\, October 13</div>\n\n<div>&nbsp\;</div>\n\n<div>WHERE:&nbsp\;Cincinnati Museum Center\, 1301 Western Avenue\, Cincinnati\, OH 45203</div>\n\n<div>&nbsp\;</div>\n\n<div>WHO:&nbsp\;Meet Cincinnati Museum Center paleontologists and scientists\, including</div>\n\n<ul type="disc">\n	<li>Dr. Glenn Storrs\, Withrow Farny Curator of Vertebrate Paleontology</li>\n	<li>Dr. Brenda Hunda\, Curator of Invertebrate Paleontology</li>\n	<li>Cameron Schwalbach\, Paleontology Collections Manager&nbsp\;</li>\n</ul>\n</div>\n</div>\n\n<div style="margin: 0in\; font-size: 11pt\; font-family: Calibri\, sans-serif\;">&nbsp\;</div>\n</div>\n
LOCATION:Cincinnati Museum Center 301 Western Avenue\, Cincinnati\, OH 45203
UID:e.818.18197
SEQUENCE:3
DTSTAMP:20260421T234205Z
URL:https://business.hispanicchambercincinnati.com/events/details/dinosaurs-of-antarctica-18197
END:VEVENT

END:VCALENDAR
